BEGIN:VCALENDAR
VERSION:2.0
PRODID:-//ChamberMaster//Event Calendar 2.0//EN
METHOD:PUBLISH
X-PUBLISHED-TTL:P3D
REFRESH-INTERVAL:P3D
CALSCALE:GREGORIAN
BEGIN:VEVENT
DTSTART:20291220T230000Z
DTEND:20291221T020000Z
X-MICROSOFT-CDO-ALLDAYEVENT:FALSE
SUMMARY:20th Annual HoliGay Toy Drive at the LGBT Visitor Center
DESCRIPTION:
X-ALT-DESC;FMTTYPE=text/html:
LOCATION:
UID:e.1580.34234
SEQUENCE:3
DTSTAMP:20260420T032926Z
URL:http://business.mdglcc.com/events/details/20th-annual-holigay-toy-drive-at-the-lgbt-visitor-center-34234
END:VEVENT

END:VCALENDAR
