BEGIN:VCALENDAR
VERSION:2.0
PRODID:-//ChamberMaster//Event Calendar 2.0//EN
METHOD:PUBLISH
X-PUBLISHED-TTL:P3D
REFRESH-INTERVAL:P3D
CALSCALE:GREGORIAN
BEGIN:VEVENT
DTSTART:20260507T220000Z
DTEND:20260508T000000Z
X-MICROSOFT-CDO-ALLDAYEVENT:FALSE
SUMMARY:Real Estate Council Social Mixer @ Mercedes-Benz Places-Miami
DESCRIPTION:Step into sophistication and opportunity at the MDGLCC Real Estate Council's Social Mixer an elevated evening designed for connection\, collaboration\, and community impact at Mercedes-Benz Places Miami.\n\nSurrounded by cutting-edge design and breathtaking views\, this exclusive gathering brings together real estate professionals\, developers\, investors\, and business leaders for purposeful networking in one of Miami's most exciting new developments.\n\nEnjoy curated light bites and wine\, exciting giveaways\, and meaningful conversations that spark new partnerships and deals. Whether you're looking to expand your network\, discover new opportunities\, or simply engage with Miami's dynamic business community this is where connections turn into impact.\n\nCome mix\, mingle\, and build powerful relationships because together\, We Mean Business.
X-ALT-DESC;FMTTYPE=text/html:<p><span style="font-size:16px\;">Step into sophistication and opportunity at the MDGLCC Real Estate Council&rsquo\;s <strong>Social Mixer</strong>&mdash\;an elevated evening designed for connection\, collaboration\, and community impact at <strong>Mercedes-Benz Places Miami</strong>.</span></p>\n\n<p><span style="font-size:16px\;">Surrounded by cutting-edge design and breathtaking views\, this exclusive gathering brings together real estate professionals\, developers\, investors\, and business leaders for purposeful networking in one of Miami&rsquo\;s most exciting new developments.</span></p>\n\n<p><span style="font-size:16px\;">Enjoy curated light bites and wine\, exciting giveaways\, and meaningful conversations that spark new partnerships and deals. Whether you&rsquo\;re looking to expand your network\, discover new opportunities\, or simply engage with Miami&rsquo\;s dynamic business community&mdash\;this is where connections turn into impact.</span></p>\n\n<p><span style="font-size:16px\;">Come mix\, mingle\, and build powerful relationships&mdash\;because together\, <strong>We Mean Business.</strong></span></p>\n
LOCATION:Mercedes-Benz Places Miami
UID:e.1580.34397
SEQUENCE:3
DTSTAMP:20260423T141052Z
URL:http://business.mdglcc.com/events/details/real-estate-council-social-mixer-mercedes-benz-places-miami-34397
END:VEVENT

END:VCALENDAR
