BEGIN:VCALENDAR
VERSION:2.0
PRODID:-//ChamberMaster//Event Calendar 2.0//EN
METHOD:PUBLISH
X-PUBLISHED-TTL:P3D
REFRESH-INTERVAL:P3D
CALSCALE:GREGORIAN
BEGIN:VEVENT
DTSTART:20190703T140000Z
DTEND:20190707T220000Z
X-MICROSOFT-CDO-ALLDAYEVENT:FALSE
SUMMARY:4th of July Celebration
DESCRIPTION:4th of July Celebration!\n\n\n\nJune 29 - July 7\n\n\n\nCelebrate 4th of July with HUGE Savings! Take advantage of new exhibits\, awesome shows and our Family Fun & Food Combo for just $35 per person! There's no better place to celebrate.\n\n\n\nTicket Restrictions:*Plus 7% FL sales tax. All 4 admissions must be redeemed on the same day. Tickets must be used between June 29 - July 7\, 2019. Offer available ONLINE ONLY! All sales are final. No Refunds. Tickets may not be redeemed on day of purchase.
X-ALT-DESC;FMTTYPE=text/html:4th of July Celebration!<br />\n<br />\nJune 29 - July 7<br />\n<br />\nCelebrate 4th of July with HUGE Savings! Take advantage of new exhibits\, awesome shows and our Family Fun &amp\; Food Combo for just $35 per person! There&rsquo\;s no better place to celebrate.<br />\n<br />\nTicket Restrictions:*Plus 7% FL sales tax. All 4 admissions must be redeemed on the same day. Tickets must be used between June 29 - July 7\, 2019. Offer available ONLINE ONLY! All sales are final. No Refunds. Tickets may not be redeemed on day of purchase.
LOCATION:
UID:e.1580.19384
SEQUENCE:3
DTSTAMP:20260425T191649Z
URL:https://business.mdglcc.com/events/details/4th-of-july-celebration-19384
END:VEVENT

END:VCALENDAR
