BEGIN:VCALENDAR
VERSION:2.0
PRODID:-//ChamberMaster//Event Calendar 2.0//EN
METHOD:PUBLISH
X-PUBLISHED-TTL:P3D
REFRESH-INTERVAL:P3D
CALSCALE:GREGORIAN
BEGIN:VEVENT
DTSTART:20190413T220000Z
DTEND:20190414T030000Z
X-MICROSOFT-CDO-ALLDAYEVENT:FALSE
SUMMARY:Actors' Playhouse 28th Annual Reach for the Stars Gala Auction
DESCRIPTION:Extravagant voyages provided by Azamara Club Cruises\, worldwide travel from the leading global airline network Star Alliance\, a one-year lease for a 2019 Lexus RX 350\, and many more of life's indulgences will await guests' bids at the 28th Annual Reach for the Stars Gala Auction. Presented by Actors' Playhouse and Lexus of Kendall\, this exciting auction will take place on Saturday\, April 13\, 2019 from 6:00 to 11 p.m. at the Miracle Theatre in Coral Gables. Attendees will be treated to culinary offerings from more than 30 of Coral Gables' finest restaurants\, wine courtesy of Domaine Bousquet\, and an open bar sponsored by Bacardi U.S.A. Bob Soper\, former CBS Miami meteorologist\, and celebrity auctioneer for the past 28 years\, will conduct the live auction alongside Actors' Playhouse Artistic Director David Arisco. Proceeds from this year's annual major fundraising event for Actors' Playhouse\, a 501 (3) nonprofit organization\, will provide funding for the organization's youth programming that educates and enriches over 60\,000 children each year.
X-ALT-DESC;FMTTYPE=text/html:<span style="font-family:arial"><span style="font-size:11.5pt">Extravagant voyages provided by Azamara Club Cruises\, worldwide travel from the leading global airline network Star Alliance\, a one-year lease for a 2019 Lexus RX 350\, and many more of life&rsquo\;s indulgences will await guests&rsquo\; bids at the 28th Annual Reach for the Stars Gala Auction. Presented by Actors&#39\; Playhouse and Lexus of Kendall\, this exciting auction will take place on Saturday\, April 13\, 2019 from 6:00 to 11 p.m. at the Miracle Theatre in Coral Gables. Attendees will be treated to culinary offerings from more than 30 of Coral Gables&rsquo\; finest restaurants\, wine courtesy of Domaine Bousquet\, and an open bar sponsored by Bacardi U.S.A. Bob Soper\, former CBS Miami meteorologist\, and celebrity auctioneer for the past 28 years\, will conduct the live auction alongside Actors&#39\; Playhouse Artistic Director David Arisco. Proceeds from this year&rsquo\;s annual major fundraising event for Actors&#39\; Playhouse\, a 501&copy\;(3) nonprofit organization\, will provide funding for the organization&rsquo\;s youth programming that educates and enriches over 60\,000 children each year.</span></span>
LOCATION:Actors' Playhouse at the Miracle Theatre 280 Miracle Mile\, Coral Gables\, FL 33134
UID:e.1580.18758
SEQUENCE:3
DTSTAMP:20260425T233424Z
URL:https://business.mdglcc.com/events/details/actors-playhouse-28th-annual-reach-for-the-stars-gala-auction-18758
END:VEVENT

END:VCALENDAR
