BEGIN:VCALENDAR
VERSION:2.0
PRODID:-//ChamberMaster//Event Calendar 2.0//EN
METHOD:PUBLISH
X-PUBLISHED-TTL:P3D
REFRESH-INTERVAL:P3D
CALSCALE:GREGORIAN
BEGIN:VEVENT
DTSTART:20190428T120000Z
DTEND:20190428T160000Z
X-MICROSOFT-CDO-ALLDAYEVENT:FALSE
SUMMARY:AIDS Walk Miami
DESCRIPTION:Join the AIDS Walk Miami 5K (3.1 mile) walk-a-thon fundraiser on April 28 in Miami Beach!\n\nLet's make an IMPACT to thousands living with or at risk for HIV! Support Care Resource and its Food For Life Network Food Bank in the ability to provide critical help to the 17\,000+ individuals annually that depend on its essential services: primary medical and dental care\, HIV and STI testing\, case management\, counseling\, prevention education\, housing\, food and nutritional assistance\, and much more.
X-ALT-DESC;FMTTYPE=text/html:<h1><strong>Join the AIDS Walk Miami 5K (3.1 mile) walk-a-thon fundraiser on April 28 in Miami Beach</strong><strong>!</strong></h1>\n\n<p>Let&#39\;s make an IMPACT to thousands living with or at risk for HIV! Support Care Resource and its Food For Life Network Food Bank in the ability to provide critical help to the 17\,000+ individuals annually that depend on its essential services: primary medical and dental care\, HIV and STI testing\, case management\, counseling\, prevention education\, housing\, food and nutritional assistance\, and much more.</p>\n
LOCATION:Soundscape Park 400 17th Street Miami Beach\, FL 33139
UID:e.1580.18761
SEQUENCE:3
DTSTAMP:20260426T011245Z
URL:https://business.mdglcc.com/events/details/aids-walk-miami-18761
END:VEVENT

END:VCALENDAR
