BEGIN:VCALENDAR
VERSION:2.0
PRODID:-//ChamberMaster//Event Calendar 2.0//EN
METHOD:PUBLISH
X-PUBLISHED-TTL:P3D
REFRESH-INTERVAL:P3D
CALSCALE:GREGORIAN
BEGIN:VEVENT
DTSTART:20190616T000000Z
DTEND:20190616T020000Z
X-MICROSOFT-CDO-ALLDAYEVENT:FALSE
SUMMARY:Alma Flamenca
DESCRIPTION:Alma Flamenca will bring you up close and personal\, mesmerizing audiences with a new pure Flamenco music and dance production exploring the depth and breadth of the art form\, with a range of rhythms and styles that are dramatic\, soulful\, joyous\, sensual and passionate all at once. With the exquisite music\, exhilarating footwork\, and the elegant grace and beauty that has made Flamenco so loved by audiences throughout the world.\n\nBallet Flamenco La Rosa's company's mission is to present authentic Flamenco dance with live music in a theatrical setting\, expanding the art form beyond traditional limits to appeal to broad-based audiences. A non-profit organization\, Ballet Flamenco La Rosa is known for its high artistic level\, stellar Guest Artists and dedication to nurturing and perpetuating the rich art of Flamenco\, delighting standing room only audiences for over three decades.
X-ALT-DESC;FMTTYPE=text/html:<p><span style="font-family:arial\,ms p????\,ms pgothic\,??\,dotum\,helvetica\,sans-serif">Alma Flamenca will bring you up close and personal\, mesmerizing audiences with a new pure Flamenco music and dance production exploring the depth and breadth of the art form\, with a range of rhythms and styles that are dramatic\, soulful\, joyous\, sensual and passionate all at once. With the exquisite music\, exhilarating footwork\, and the elegant grace and beauty that has made Flamenco so loved by audiences throughout the world.</span></p>\n\n<p><span style="font-family:arial\,ms p????\,ms pgothic\,??\,dotum\,helvetica\,sans-serif">Ballet Flamenco La Rosa&#39\;s company&rsquo\;s mission is to present authentic Flamenco dance with live music in a theatrical setting\, expanding the art form beyond traditional limits to appeal to broad-based audiences. A non-profit organization\, Ballet Flamenco La Rosa is known for its high artistic level\, stellar Guest Artists and dedication to nurturing and perpetuating the rich art of Flamenco\, delighting standing room only audiences for over three decades.</span></p>\n
LOCATION:Aventura Arts & Cultural Center 3385 NE 188th St\, Aventura\, FL 33180
UID:e.1580.18994
SEQUENCE:3
DTSTAMP:20260425T204235Z
URL:https://business.mdglcc.com/events/details/alma-flamenca-18994
END:VEVENT

END:VCALENDAR
