BEGIN:VCALENDAR
VERSION:2.0
PRODID:-//ChamberMaster//Event Calendar 2.0//EN
METHOD:PUBLISH
X-PUBLISHED-TTL:P3D
REFRESH-INTERVAL:P3D
CALSCALE:GREGORIAN
BEGIN:VEVENT
DTSTART:20260426T200000Z
DTEND:20260426T210000Z
X-MICROSOFT-CDO-ALLDAYEVENT:FALSE
SUMMARY:An Afternoon with David Archuleta at The Betsy
DESCRIPTION:Join The Betsy Hotel for the latest installment of the Books & Books Monthly Literary Series with singer-songwriter David Archuleta for the release of his new memoir\, Devout (Gallery Books\, $29). In his memoir\, David Archuleta illustrates his journey from a closeted Mormon teen to living in peace and authenticity as an openly queer man. Touching on the significant markers of his life\, American Idol\, performing national tours\, and missionary work in South America\, Devout is a reckoning and acceptance of a life lived under pressure and shame as you start to discover who you truly are.\n\nDoors Open at 3:30 PM\n\nA book signing & photo op with David Archuleta will be available for all attendees who purchase a copy of Devout ($29) on-site\, during the event.\n\nPlease note: Tickets are REQUIRED.\n\nEach ticket admits one (1) guest into the venue and includes one (1) copy of DEVOUT ($29 + tax) along with a book signing and photo op. Books will be handed out upon entry. Additional books will be available for sale at the event.
X-ALT-DESC;FMTTYPE=text/html:<p>Join The Betsy Hotel for the latest installment of the&nbsp\;<span style="font-family:inherit">Books &amp\; Books Monthly Literary Series&nbsp\;</span>with singer-songwriter&nbsp\;<span style="font-family:inherit">David Archuleta&nbsp\;</span>for the release of his new memoir\,&nbsp\;<em>Devout</em>&nbsp\;(<em>Gallery Books</em>\, $29). In his memoir\,&nbsp\;<span style="font-family:inherit">David Archuleta&nbsp\;</span>illustrates his journey from a closeted Mormon teen to living in peace and authenticity as an openly queer man. Touching on the significant markers of his life\, American Idol\, performing national tours\, and missionary work in South America\,&nbsp\;<em>Devout</em>&nbsp\;is a reckoning and acceptance of a life lived under pressure and shame as you start to discover who you truly are.</p>\n\n<p><span style="font-family:inherit">Doors Open at 3:30 PM</span></p>\n\n<p><em>A book signing &amp\; photo op with David Archuleta will be available for all attendees who purchase a copy of Devout ($29) on-site\, during the event.</em></p>\n\n<p>Please note: Tickets are REQUIRED.</p>\n\n<p>Each ticket admits one (1) guest into the venue and includes one (1) copy of DEVOUT ($29 + tax) along with a book signing and photo op.<span style="font-family:inherit">&nbsp\;</span>Books will be handed out upon entry. Additional books will be available for sale at the event.</p>\n
LOCATION:The Betsy Hotel\, 1440 Ocean Drive\, Miami Beach\, 33139
UID:e.1580.34391
SEQUENCE:3
DTSTAMP:20260421T231005Z
URL:https://business.mdglcc.com/events/details/an-afternoon-with-david-archuleta-at-the-betsy-34391
END:VEVENT

END:VCALENDAR
