BEGIN:VCALENDAR
VERSION:2.0
PRODID:-//ChamberMaster//Event Calendar 2.0//EN
METHOD:PUBLISH
X-PUBLISHED-TTL:P3D
REFRESH-INTERVAL:P3D
CALSCALE:GREGORIAN
BEGIN:VEVENT
DTSTART:20190928T120000Z
DTEND:20190928T140000Z
X-MICROSOFT-CDO-ALLDAYEVENT:FALSE
SUMMARY:Annual Beach Clean-Up
DESCRIPTION:Our annual beach clean-up is back! Start your morning by joining us at Virginia Key Beach Park on September 28 at 8 a.m. The fun doesn't stop at the beach! Continue your day with us at our Park\, and receive FREE admission if you joined us during the beach clean-up. Remember to bring comfy shoes\, sunscreen and the entire family!
X-ALT-DESC;FMTTYPE=text/html:Our annual beach clean-up is back! Start your morning by joining us at Virginia Key Beach Park on September 28 at 8 a.m. The fun doesn&rsquo\;t stop at the beach! Continue your day with us at our Park\, and receive FREE admission if you joined us during the beach clean-up. Remember to bring comfy shoes\, sunscreen and the entire family!
LOCATION:Virginia Key Beach Park on September 28 at 8 a.m.
UID:e.1580.19482
SEQUENCE:3
DTSTAMP:20260425T152511Z
URL:https://business.mdglcc.com/events/details/annual-beach-clean-up-19482
END:VEVENT

END:VCALENDAR
