BEGIN:VCALENDAR
VERSION:2.0
PRODID:-//ChamberMaster//Event Calendar 2.0//EN
METHOD:PUBLISH
X-PUBLISHED-TTL:P3D
REFRESH-INTERVAL:P3D
CALSCALE:GREGORIAN
BEGIN:VEVENT
DTSTART:20190919T223000Z
DTEND:20190920T010000Z
X-MICROSOFT-CDO-ALLDAYEVENT:FALSE
SUMMARY:Art After Hours
DESCRIPTION:Join us for a creative happy hour! Take a break after work and explore topics\, techniques and themes in art through a series of monthly\, art-making workshops. Led by teaching artists and designed for all skill levels\, whether you are a beginner or a seasoned artist. Wine included (21+)! This month's topic is basic sculpting - learn building techniques for creating 3D projects with clay.
X-ALT-DESC;FMTTYPE=text/html:<p style="margin-left:0px\; margin-right:0px\; text-align:left">Join us for a creative happy hour! Take a break after work and explore topics\, techniques and themes in art through a series of monthly\, art-making workshops. Led by teaching artists and designed for all skill levels\, whether you are a beginner or a seasoned artist. Wine included (21+)! This month&#39\;s topic is basic sculpting - learn building techniques for creating 3D projects with clay.</p>\n
LOCATION:The Bass 2100 Collins Avenue Miami Beach\, FL 33139
UID:e.1580.19505
SEQUENCE:3
DTSTAMP:20260425T153410Z
URL:https://business.mdglcc.com/events/details/art-after-hours-09-19-2019-19505
END:VEVENT

END:VCALENDAR
