BEGIN:VCALENDAR
VERSION:2.0
PRODID:-//ChamberMaster//Event Calendar 2.0//EN
METHOD:PUBLISH
X-PUBLISHED-TTL:P3D
REFRESH-INTERVAL:P3D
CALSCALE:GREGORIAN
BEGIN:VEVENT
DTSTART:20191124T210000Z
DTEND:20191124T230000Z
X-MICROSOFT-CDO-ALLDAYEVENT:FALSE
SUMMARY:Art at the Avalon
DESCRIPTION:A Fish Called Avalon and miamiartzine.com present Art at the Avalon\, a cocktail reception featuring the Art Deco-inspired paintings of Sid Daniels. The event is free and open to the public\, with complimentary hors d'oeuvres\, a Delightfully Deco Cocktail and a meet & greet with the artist.\n\n \n\nLocated in the Avalon Hotel\, one of the most recognizable\, iconic hotels in the heart of the Art Deco District\, A Fish Called Avalon presents the ideal locale for showcasing Sid Daniels' artwork\, which will remain on display throughout Art Basel. \n\n\n\nArt at the Avalon takes place on Sunday\, November 24 from 4pm till 6 pm at A Fish Called Avalon\, 700 Ocean Drive\, Miami Beach  www.afishcalledavalon.com (305) 532-1727.  Additional event info: https://www.facebook.com/events/1229904570534667/
X-ALT-DESC;FMTTYPE=text/html:A Fish Called Avalon and miamiartzine.com present&nbsp\;<strong><span style="font-family:calibri\,sans-serif">Art at the Avalon</span></strong>\, a cocktail reception featuring the Art Deco-inspired paintings of Sid Daniels. The event is free and open to the public\, with complimentary hors d&rsquo\;oeuvres\, a Delightfully Deco Cocktail and a meet &amp\; greet with the artist.<br />\n&nbsp\;<br />\nLocated in the Avalon Hotel\, one of the most recognizable\, iconic hotels in the heart of the Art Deco District\, A Fish Called Avalon presents the ideal locale for showcasing Sid Daniels&rsquo\; artwork\, which will remain on display throughout Art Basel.&nbsp\;<br />\n<br />\n<span style="font-family:calibri\,sans-serif"><span style="font-size:11.0pt">Art at the Avalon takes place on Sunday\, November 24&nbsp\;from 4pm till 6 pm at A Fish Called Avalon\, 700 Ocean Drive\, Miami Beach&nbsp\; <a href="http://cts.vresp.com/c/?KerstenCommunication/3cf8617cd4/TEST/4c12bb81e8"><span style="color:#0033CC">www.afishcalledavalon.com</span></a>&nbsp\;(305) 532-1727.&nbsp\; Additional event info:&nbsp\;</span></span><a href="https://www.facebook.com/events/1229904570534667/">https://www.facebook.com/events/1229904570534667/</a>
LOCATION:A Fish Called Avalon 700 Ocean Drive\, Miami Beach\, FL 33139
UID:e.1580.20374
SEQUENCE:3
DTSTAMP:20260425T115419Z
URL:https://business.mdglcc.com/events/details/art-at-the-avalon-20374
END:VEVENT

END:VCALENDAR
