BEGIN:VCALENDAR
VERSION:2.0
PRODID:-//ChamberMaster//Event Calendar 2.0//EN
METHOD:PUBLISH
X-PUBLISHED-TTL:P3D
REFRESH-INTERVAL:P3D
CALSCALE:GREGORIAN
BEGIN:VEVENT
DTSTART:20200125T153000Z
DTEND:20200125T173000Z
X-MICROSOFT-CDO-ALLDAYEVENT:FALSE
SUMMARY:Art for Kids at The bass
DESCRIPTION:Young artists will develop a portfolio of artwork while building technical skills through weekly group instruction\, led by teaching artists\, that explore different mediums\, techniques and tools for art making.\n\n\nUsing a concept or idea\, create a self-portrait depicting a dream or illusion while learning basic watercolor techniques.\n\nSpace is limited. Pre-registration is recommended.
X-ALT-DESC;FMTTYPE=text/html:<p><span style="font-size:12px"><span style="font-family:arial\,helvetica\,sans-serif">Young artists will develop a portfolio of artwork while building technical skills through weekly group instruction\, led by teaching artists\, that explore different mediums\, techniques and tools for art making.</span></span></p>\n<br />\n<span style="font-size:12px"><span style="font-family:arial\,helvetica\,sans-serif">Using a concept or idea\, create a self-portrait depicting a dream or illusion while learning basic watercolor techniques.</span></span>\n\n<p><span style="font-size:12px"><span style="font-family:arial\,helvetica\,sans-serif">Space is limited. Pre-registration is recommended.</span></span></p>\n<br />\n&nbsp\;
LOCATION:The Bass 2100 Collins Ave Miami Beach\, FL 33139
UID:e.1580.20597
SEQUENCE:3
DTSTAMP:20260425T101908Z
URL:https://business.mdglcc.com/events/details/art-for-kids-at-the-bass-01-25-2020-20597
END:VEVENT

END:VCALENDAR
