BEGIN:VCALENDAR
VERSION:2.0
PRODID:-//ChamberMaster//Event Calendar 2.0//EN
METHOD:PUBLISH
X-PUBLISHED-TTL:P3D
REFRESH-INTERVAL:P3D
CALSCALE:GREGORIAN
BEGIN:VEVENT
DTSTART:20190921T143000Z
DTEND:20190921T163000Z
X-MICROSOFT-CDO-ALLDAYEVENT:FALSE
SUMMARY:Art for Kids at The Bass
DESCRIPTION:Get an up-close look at the museum's exhibitions while learning how to draw from observation with one-on-one interactions with the instructor.\n\nYoung artists will develop a portfolio of artwork while building technical skills through weekly group instruction\, led by teaching artists\, that explore different mediums\, techniques and tools for art making.
X-ALT-DESC;FMTTYPE=text/html:<span style="background-color:transparent\; color:rgb(61\, 61\, 61)\; font-family:arial\,helvetica\,sans-serif\; font-size:11px">Get an up-close look at the museum&rsquo\;s exhibitions while learning how to draw from observation with one-on-one interactions with the instructor.</span><br />\n<span style="background-color:transparent\; color:rgb(61\, 61\, 61)\; font-family:arial\,helvetica\,sans-serif\; font-size:11px">Young artists will develop a portfolio of artwork while building technical skills through weekly group instruction\, led by teaching artists\, that explore different mediums\, techniques and tools for art making.</span>
LOCATION:2100 Collins Ave Miami Beach\, FL 33139
UID:e.1580.19507
SEQUENCE:3
DTSTAMP:20260425T152807Z
URL:https://business.mdglcc.com/events/details/art-for-kids-at-the-bass-09-21-2019-19507
END:VEVENT

END:VCALENDAR
