BEGIN:VCALENDAR
VERSION:2.0
PRODID:-//ChamberMaster//Event Calendar 2.0//EN
METHOD:PUBLISH
X-PUBLISHED-TTL:P3D
REFRESH-INTERVAL:P3D
CALSCALE:GREGORIAN
BEGIN:VEVENT
DTSTART:20190928T143000Z
DTEND:20190928T163000Z
X-MICROSOFT-CDO-ALLDAYEVENT:FALSE
SUMMARY:Art for Kids at The Bass
DESCRIPTION:Fabric\, paint\, markers and clay are just a few materials that will be used to create a mixed media masterpiece.\n\nYoung artists will develop a portfolio of artwork while building technical skills through weekly group instruction\, led by teaching artists\, that explore different mediums\, techniques and tools for art making.
X-ALT-DESC;FMTTYPE=text/html:<p style="margin-left:0px\; margin-right:0px\; text-align:left">Fabric\, paint\, markers and clay are just a few materials that will be used to create a mixed media masterpiece.<br />\nYoung artists will develop a portfolio of artwork while building technical skills through weekly group instruction\, led by teaching artists\, that explore different mediums\, techniques and tools for art making.</p>\n
LOCATION:2100 Collins Ave Miami Beach\, FL 33139
UID:e.1580.19514
SEQUENCE:3
DTSTAMP:20260425T153012Z
URL:https://business.mdglcc.com/events/details/art-for-kids-at-the-bass-09-28-2019-19514
END:VEVENT

END:VCALENDAR
