BEGIN:VCALENDAR
VERSION:2.0
PRODID:-//ChamberMaster//Event Calendar 2.0//EN
METHOD:PUBLISH
X-PUBLISHED-TTL:P3D
REFRESH-INTERVAL:P3D
CALSCALE:GREGORIAN
BEGIN:VEVENT
DTSTART:20190907T143000Z
DTEND:20190907T163000Z
X-MICROSOFT-CDO-ALLDAYEVENT:FALSE
SUMMARY:Art for Kids at The Bass
DESCRIPTION:Create personalized sketchbooks by learning about various book-making methods.\n\nYoung artists will develop a portfolio of artwork while building technical skills through weekly group instruction\, led by teaching artists\, that explore different mediums\, techniques and tools for art making.
X-ALT-DESC;FMTTYPE=text/html:<p style="margin-left:0px\; margin-right:0px\; text-align:left">Create personalized sketchbooks by learning about various book-making methods.<br />\nYoung artists will develop a portfolio of artwork while building technical skills through weekly group instruction\, led by teaching artists\, that explore different mediums\, techniques and tools for art making.</p>\n
LOCATION:The Bass 2100 Collins Avenue Miami Beach\, FL 33139
UID:e.1580.19497
SEQUENCE:3
DTSTAMP:20260425T153746Z
URL:https://business.mdglcc.com/events/details/art-for-kids-at-the-bass-19497
END:VEVENT

END:VCALENDAR
