BEGIN:VCALENDAR
VERSION:2.0
PRODID:-//ChamberMaster//Event Calendar 2.0//EN
METHOD:PUBLISH
X-PUBLISHED-TTL:P3D
REFRESH-INTERVAL:P3D
CALSCALE:GREGORIAN
BEGIN:VEVENT
DTSTART:20190906T143000Z
DTEND:20190906T153000Z
X-MICROSOFT-CDO-ALLDAYEVENT:FALSE
SUMMARY:Bass Babies
DESCRIPTION:Make art that engages the senses: touch\, sight\, smell and hearing.\n\nBass Babies is a weekly art program designed for our youngest visitors and their caregivers\, to foster new discoveries in sensory awareness\, creativity and pre-literacy skills through hands-on art activities. This program will sell-out.\n\n*Classes held on the same week repeat topics and activities. Participants are encouraged to sign up for one class per week.
X-ALT-DESC;FMTTYPE=text/html:<p style="margin-left:0px\; margin-right:0px\; text-align:left">Make art that engages the senses: touch\, sight\, smell and hearing.</p>\n\n<p style="margin-left:0px\; margin-right:0px\; text-align:left">Bass Babies is a weekly art program designed for our youngest visitors and their caregivers\, to foster new discoveries in sensory awareness\, creativity and pre-literacy skills through hands-on art activities.&nbsp\;This program will sell-out.</p>\n\n<p style="margin-left:0px\; margin-right:0px\; text-align:left"><em>*Classes held on the same week repeat topics and activities. Participants are encouraged to sign up for one class per week.&nbsp\;</em></p>\n
LOCATION:The Bass 2100 Collins Avenue Miami Beach\, FL 33139
UID:e.1580.19496
SEQUENCE:3
DTSTAMP:20260425T153410Z
URL:https://business.mdglcc.com/events/details/bass-babies-09-06-2019-19496
END:VEVENT

END:VCALENDAR
