BEGIN:VCALENDAR
VERSION:2.0
PRODID:-//ChamberMaster//Event Calendar 2.0//EN
METHOD:PUBLISH
X-PUBLISHED-TTL:P3D
REFRESH-INTERVAL:P3D
CALSCALE:GREGORIAN
BEGIN:VEVENT
DTSTART:20190911T143000Z
DTEND:20190911T153000Z
X-MICROSOFT-CDO-ALLDAYEVENT:FALSE
SUMMARY:Bass Babies
DESCRIPTION:Explore different fiber art materials like yarn\, cotton balls\, and fabric\, like exhibiting artist Sheila Hicks.\n\nBass Babies is a weekly art program designed for our youngest visitors and their caregivers\, to foster new discoveries in sensory awareness\, creativity and pre-literacy skills through hands-on art activities. \n\n*Classes held on the same week repeat topics and activities. Participants are encouraged to sign up for one class per week.
X-ALT-DESC;FMTTYPE=text/html:<p style="margin-left:0px\; margin-right:0px\; text-align:left">Explore different fiber art materials like yarn\, cotton balls\, and fabric\, like exhibiting artist Sheila Hicks.<br />\nBass Babies is a weekly art program designed for our youngest visitors and their caregivers\, to foster new discoveries in sensory awareness\, creativity and pre-literacy skills through hands-on art activities.&nbsp\;<br />\n<em>*Classes held on the same week repeat topics and activities. Participants are encouraged to sign up for one class per week.&nbsp\;</em></p>\n
LOCATION:The Bass 2100 Collins Avenue Miami Beach\, FL 33139
UID:e.1580.19499
SEQUENCE:3
DTSTAMP:20260425T154607Z
URL:https://business.mdglcc.com/events/details/bass-babies-09-11-2019-19499
END:VEVENT

END:VCALENDAR
