BEGIN:VCALENDAR
VERSION:2.0
PRODID:-//ChamberMaster//Event Calendar 2.0//EN
METHOD:PUBLISH
X-PUBLISHED-TTL:P3D
REFRESH-INTERVAL:P3D
CALSCALE:GREGORIAN
BEGIN:VEVENT
DTSTART:20190918T143000Z
DTEND:20190918T153000Z
X-MICROSOFT-CDO-ALLDAYEVENT:FALSE
SUMMARY:Bass Babies
DESCRIPTION:Using basic symbols like emojis\, identify and express your emotions to make art.\n\nA weekly art program designed for our youngest visitors and their caregivers\, to foster new discoveries in sensory awareness\, creativity and pre-literacy skills through hands-on art activities. \n\n*Classes held on the same week repeat topics and activities. Participants are encouraged to sign up for one class per week.
X-ALT-DESC;FMTTYPE=text/html:<p style="margin-left:0px\; margin-right:0px\; text-align:left">Using basic symbols like emojis\, identify and express your emotions to make art.<br />\nA weekly art program designed for our youngest visitors and their caregivers\, to foster new discoveries in sensory awareness\, creativity and pre-literacy skills through hands-on art activities.&nbsp\;<br />\n<em>*Classes held on the same week repeat topics and activities. Participants are encouraged to sign up for one class per week.&nbsp\;</em></p>\n
LOCATION:The Bass 2100 Collins Avenue Miami Beach\, FL 33139
UID:e.1580.19504
SEQUENCE:3
DTSTAMP:20260425T154615Z
URL:https://business.mdglcc.com/events/details/bass-babies-09-18-2019-19504
END:VEVENT

END:VCALENDAR
