BEGIN:VCALENDAR
VERSION:2.0
PRODID:-//ChamberMaster//Event Calendar 2.0//EN
METHOD:PUBLISH
X-PUBLISHED-TTL:P3D
REFRESH-INTERVAL:P3D
CALSCALE:GREGORIAN
BEGIN:VEVENT
DTSTART:20190920T143000Z
DTEND:20190920T153000Z
X-MICROSOFT-CDO-ALLDAYEVENT:FALSE
SUMMARY:Bass Babies
DESCRIPTION:Using basic symbols like emojis\, identify and express your emotions to make art.\n\nBass Babies is a weekly art program designed for our youngest visitors and their caregivers\, to foster new discoveries in sensory awareness\, creativity and pre-literacy skills through hands-on art activities.\n\n*Classes held on the same week repeat topics and activities. Participants are encouraged to sign up for one class per week.
X-ALT-DESC;FMTTYPE=text/html:<span style="background-color:transparent\; color:rgb(61\, 61\, 61)\; font-family:arial\,helvetica\,sans-serif\; font-size:11px">Using basic symbols like emojis\, identify and express your emotions to make art.</span><br />\n<span style="background-color:transparent\; color:rgb(61\, 61\, 61)\; font-family:arial\,helvetica\,sans-serif\; font-size:11px">Bass Babies is a weekly art program designed for our youngest visitors and their caregivers\, to foster new discoveries in sensory awareness\, creativity and pre-literacy skills through hands-on art activities.</span><br />\n<span style="background-color:transparent\; color:rgb(61\, 61\, 61)\; font-family:arial\,helvetica\,sans-serif\; font-size:11px">*Classes held on the same week repeat topics and activities. Participants are encouraged to sign up for one class per week.</span>
LOCATION:The Bass 2100 Collins Avenue Miami Beach\, FL 33139
UID:e.1580.19506
SEQUENCE:3
DTSTAMP:20260425T154607Z
URL:https://business.mdglcc.com/events/details/bass-babies-09-20-2019-19506
END:VEVENT

END:VCALENDAR
