BEGIN:VCALENDAR
VERSION:2.0
PRODID:-//ChamberMaster//Event Calendar 2.0//EN
METHOD:PUBLISH
X-PUBLISHED-TTL:P3D
REFRESH-INTERVAL:P3D
CALSCALE:GREGORIAN
BEGIN:VEVENT
DTSTART:20190927T143000Z
DTEND:20190927T153000Z
X-MICROSOFT-CDO-ALLDAYEVENT:FALSE
SUMMARY:Bass Babies
DESCRIPTION:Learn how to create all the colors of the rainbow by mixing primary colors.\n\nBass Babies is a weekly art program designed for our youngest visitors and their caregivers\, to foster new discoveries in sensory awareness\, creativity and pre-literacy skills through hands-on art activities.
X-ALT-DESC;FMTTYPE=text/html:<p style="margin-left:0px\; margin-right:0px\; text-align:left">Learn how to create all the colors of the rainbow by mixing primary colors.<br />\nBass Babies is a weekly art program designed for our youngest visitors and their caregivers\, to foster new discoveries in sensory awareness\, creativity and pre-literacy skills through hands-on art activities.&nbsp\;</p>\n
LOCATION:The Bass 2100 Collins Ave Miami Beach\, FL 33139
UID:e.1580.19513
SEQUENCE:3
DTSTAMP:20260425T154622Z
URL:https://business.mdglcc.com/events/details/bass-babies-09-27-2019-19513
END:VEVENT

END:VCALENDAR
