BEGIN:VCALENDAR
VERSION:2.0
PRODID:-//ChamberMaster//Event Calendar 2.0//EN
METHOD:PUBLISH
X-PUBLISHED-TTL:P3D
REFRESH-INTERVAL:P3D
CALSCALE:GREGORIAN
BEGIN:VEVENT
DTSTART:20191002T143000Z
DTEND:20191002T153000Z
X-MICROSOFT-CDO-ALLDAYEVENT:FALSE
SUMMARY:Bass Babies
DESCRIPTION:In this week's class\, create 3D forms and learn about artists that use stacking and building in their artwork. Bass Babies is a weekly art program designed for our youngest visitors and their caregivers\, to foster new discoveries in sensory awareness\, creativity and pre-literacy skills through hands-on art activities.\n\n\n\n*Classes held on the same week repeat topics and activities. Participants are encouraged to sign up for one class per week.
X-ALT-DESC;FMTTYPE=text/html:<p><span style="font-size:14px"><span style="font-family:arial\,helvetica\,sans-serif">In this week&#39\;s class\, create 3D forms and learn about artists that use stacking and building in their artwork.&nbsp\;Bass Babies is a weekly art program designed for our youngest visitors and their caregivers\, to foster new discoveries in sensory awareness\, creativity and pre-literacy skills through hands-on art activities.</span></span><br />\n<br />\n<em>*Classes held on the same week repeat topics and activities. Participants are encouraged to sign up for one class per week.</em></p>\n
LOCATION:The Bass 2100 Collins Ave Miami Beach\, FL 33139
UID:e.1580.19636
SEQUENCE:3
DTSTAMP:20260425T133440Z
URL:https://business.mdglcc.com/events/details/bass-babies-10-02-2019-19636
END:VEVENT

END:VCALENDAR
