BEGIN:VCALENDAR
VERSION:2.0
PRODID:-//ChamberMaster//Event Calendar 2.0//EN
METHOD:PUBLISH
X-PUBLISHED-TTL:P3D
REFRESH-INTERVAL:P3D
CALSCALE:GREGORIAN
BEGIN:VEVENT
DTSTART:20190602T000000Z
DTEND:20190602T020000Z
X-MICROSOFT-CDO-ALLDAYEVENT:FALSE
SUMMARY:BleauLive presents Daughtry
DESCRIPTION:Fontainebleau BleauLive presents an acoustic evening with Daughtry\, rock and roll torchbearers of the 21st Century. Daughtry\, who rose to prominence on the fifth season of American Idol will join the ranks of Billboard chart-topping artists to perform at Fontainebleau's famed BleauLive concert series. On Saturday\, June 1\, the frontman for the band bearing his name\, Daughtry\, will take the stage with their biggest hits\, such as\, "It's not Over" and "Waiting for Superman." Show and Dinner & Show packages are available and include complimentary specialty cocktails and discounted valet parking for $15. \n\nRoom packages start at $359 per night and include dinner & show at Scarpetta by Scott Conant or StripSteak by Michael Mina. Dinner & Show guests must be seated for dinner between 6 - 7 PM on the night of the performance. \n\nDoors to LIV open at 8 PM and the show starts at 9 PM. Please make sure to visit Will Call\, located in the Chateau Lobby\, between 5 and 9 PM on the day of the show to obtain your entrance wristband.
X-ALT-DESC;FMTTYPE=text/html:<p>Fontainebleau BleauLive presents an acoustic evening with&nbsp\;Daughtry\, rock and roll torchbearers of the 21st Century. Daughtry\, who rose to prominence on the fifth season of American Idol will join the ranks of Billboard chart-topping artists to perform at Fontainebleau&rsquo\;s famed BleauLive concert series. On Saturday\, June 1\, the frontman for the band bearing his name\, Daughtry\, will take the&nbsp\;stage with their biggest hits\, such as\,&nbsp\;&quot\;It&#39\;s not Over&rdquo\; and &ldquo\;Waiting for Superman.&quot\; Show and Dinner &amp\; Show packages are available and include complimentary specialty cocktails and discounted valet parking for $15.&nbsp\;</p>\n\n<p>Room packages start at $359 per night and include dinner &amp\; show at&nbsp\;Scarpetta by Scott Conant or StripSteak by Michael Mina. Dinner &amp\; Show guests must be seated for dinner between 6 - 7 PM on the night of the performance.&nbsp\;</p>\n\n<p>Doors to LIV open at 8 PM and the show starts at 9 PM. Please make sure to visit Will Call\, located in the Chateau Lobby\, between 5 and 9 PM on the day of the show to obtain your entrance wristband.&nbsp\;</p>\n
LOCATION:Fontainebleau Miami Beach
UID:e.1580.18997
SEQUENCE:3
DTSTAMP:20260425T203641Z
URL:https://business.mdglcc.com/events/details/bleaulive-presents-daughtry-18997
END:VEVENT

END:VCALENDAR
