BEGIN:VCALENDAR
VERSION:2.0
PRODID:-//ChamberMaster//Event Calendar 2.0//EN
METHOD:PUBLISH
X-PUBLISHED-TTL:P3D
REFRESH-INTERVAL:P3D
CALSCALE:GREGORIAN
BEGIN:VEVENT
DTSTART:20190922T140000Z
DTEND:20190922T153000Z
X-MICROSOFT-CDO-ALLDAYEVENT:FALSE
SUMMARY:Breakfast at The Bass
DESCRIPTION:This month features a conversation and tour led by Executive Director and Chief Curator Silvia Karman Cubi   focused on Sheila Hicks' solo exhibition\, Campo Abierto (Open Field)\, on view through September 29\, 2019.
X-ALT-DESC;FMTTYPE=text/html:<p style="margin-left:0px\; margin-right:0px\; text-align:left">This month features a conversation and tour led by Executive Director and Chief Curator Silvia&nbsp\;Karman Cubi&ntilde\;&aacute\; focused on Sheila Hicks&rsquo\; solo exhibition\,&nbsp\;<em>Campo Abierto (Open&nbsp\;Field)</em>\, on view through September 29\, 2019.</p>\n
LOCATION:The Bass 2100 Collins Ave Miami Beach\, FL 33139
UID:e.1580.19511
SEQUENCE:3
DTSTAMP:20260425T154607Z
URL:https://business.mdglcc.com/events/details/breakfast-at-the-bass-19511
END:VEVENT

END:VCALENDAR
