BEGIN:VCALENDAR
VERSION:2.0
PRODID:-//ChamberMaster//Event Calendar 2.0//EN
METHOD:PUBLISH
X-PUBLISHED-TTL:P3D
REFRESH-INTERVAL:P3D
CALSCALE:GREGORIAN
BEGIN:VEVENT
DTSTART:20190612T130000Z
DTEND:20190612T203000Z
X-MICROSOFT-CDO-ALLDAYEVENT:FALSE
SUMMARY:Camp Seaquarium
DESCRIPTION:Let your child enjoy sun-and-fun-filled days of education and conservation at Miami Seaquarium's summer camp for ages 5 -15. Our weekly programs vary by age and skill levels so you can find the program that is just right for your child. He or she will enjoy:Up-close animal interactions\n\nAnimal shows\n\nField & art activities\n\nComplimentary camp t-shirt\n\nA souvenir water bottle\n\nSnacks\n\n\n\nCamp Dates /Hours:\n\n\n\nJune 10 - August 16\, 2019\n\n9:00 a.m. to 4:30 p.m.\n\nEarly care* (8:00 a.m. to 9:00 a.m.)\n\nLate care* (4:30 p.m. to 5:30 p.m.)\n\n\n\n*Additional fees apply.\n\n\n\nThis year's themes:\n\n\n\nMarine Mysteries\n\nSeaside Superheroes\n\nOcean Olympics\n\nTide Pooling Travels\n\nDinosaur Detectives\n\nCounselor in Training Program (Only offered to 15 year olds)
X-ALT-DESC;FMTTYPE=text/html:Let your child enjoy sun-and-fun-filled days of education and conservation at Miami Seaquarium&#39\;s summer camp for ages 5 -15. Our weekly programs vary by age and skill levels so you can find the program that is just right for your child. He or she will enjoy:Up-close animal interactions<br />\nAnimal shows<br />\nField &amp\; art activities<br />\nComplimentary camp t-shirt<br />\nA souvenir water bottle<br />\nSnacks<br />\n<br />\nCamp Dates /Hours:<br />\n<br />\nJune 10 - August 16\, 2019<br />\n9:00 a.m. to 4:30 p.m.<br />\nEarly care* (8:00 a.m. to 9:00 a.m.)<br />\nLate care* (4:30 p.m. to 5:30 p.m.)<br />\n<br />\n*Additional fees apply.<br />\n<br />\nThis year&#39\;s themes:<br />\n<br />\nMarine Mysteries<br />\nSeaside Superheroes<br />\nOcean Olympics<br />\nTide Pooling Travels<br />\nDinosaur Detectives<br />\nCounselor in Training Program (Only offered to 15 year olds)
LOCATION:
UID:e.1580.19302
SEQUENCE:3
DTSTAMP:20260425T220255Z
URL:https://business.mdglcc.com/events/details/camp-seaquarium-06-12-2019-19302
END:VEVENT

END:VCALENDAR
