BEGIN:VCALENDAR
VERSION:2.0
PRODID:-//ChamberMaster//Event Calendar 2.0//EN
METHOD:PUBLISH
X-PUBLISHED-TTL:P3D
REFRESH-INTERVAL:P3D
CALSCALE:GREGORIAN
BEGIN:VEVENT
DTSTART;VALUE=DATE:20190813
DTEND;VALUE=DATE:20190814
TRANSP:TRANSPARENT
X-MICROSOFT-CDO-ALLDAYEVENT:TRUE
SUMMARY:Celebrating 64 Years!
DESCRIPTION:Join us to celebrate 64 years of wildlife conservation\, education and community involvement throughout the month with different deals and events!\n\nExclusive offer: We couldn't think of a better way to celebrate our anniversary month than by having a special online offer. Bring us a photo of how you've helped the environment and receive general admission for only $19.55. Offer valid from September 1-30\, 2019.
X-ALT-DESC;FMTTYPE=text/html:Join us to celebrate 64 years of wildlife conservation\, education and community involvement throughout the month with different deals and events!<br />\nExclusive offer: We couldn&#39\;t think of a better way to celebrate our anniversary month than by having a special online offer. Bring us a photo of how you&rsquo\;ve helped the environment and receive general admission for only $19.55. Offer valid from September 1-30\, 2019.
LOCATION:
UID:e.1580.19483
SEQUENCE:3
DTSTAMP:20260425T190727Z
URL:https://business.mdglcc.com/events/details/celebrating-64-years-19483
END:VEVENT

END:VCALENDAR
