BEGIN:VCALENDAR
VERSION:2.0
PRODID:-//ChamberMaster//Event Calendar 2.0//EN
METHOD:PUBLISH
X-PUBLISHED-TTL:P3D
REFRESH-INTERVAL:P3D
CALSCALE:GREGORIAN
BEGIN:VEVENT
DTSTART:20190625T230000Z
DTEND:20190626T003000Z
X-MICROSOFT-CDO-ALLDAYEVENT:FALSE
SUMMARY:Charismatic Leadership Keynote
DESCRIPTION:Learn how to be your best authentic self in the most challenging situation: public speaking!\n\nPublic speaking is the number one fear in the world... Number two is death!\n\n\n\nHow to be your best self in this there-is-a-lot-on-the-line kinda situation may be a question you ask yourself.\n\nCome learn some tricks\, tips and techniques on public speaking that you can use in your daily life\, whether you're on a one-on-one\, speaking to thousands\, on a job interview or on a first date!
X-ALT-DESC;FMTTYPE=text/html:<p>Learn how to be your best authentic self in the most challenging situation: public speaking!</p>\n\n<p>Public speaking is the number one fear in the world... Number two is death!<br />\n<br />\nHow to be your best self in this there-is-a-lot-on-the-line kinda situation may be a question you ask yourself.</p>\n\n<p>Come learn some tricks\, tips and techniques on public speaking that you can use in your daily life\, whether you&#39\;re on a one-on-one\, speaking to thousands\, on a job interview or on a first date!</p>\n
LOCATION:Colony Theatre 1040 Lincoln Road Miami Beach FL 33139
UID:e.1580.19373
SEQUENCE:3
DTSTAMP:20260425T204256Z
URL:https://business.mdglcc.com/events/details/charismatic-leadership-keynote-19373
END:VEVENT

END:VCALENDAR
