BEGIN:VCALENDAR
VERSION:2.0
PRODID:-//ChamberMaster//Event Calendar 2.0//EN
METHOD:PUBLISH
X-PUBLISHED-TTL:P3D
REFRESH-INTERVAL:P3D
CALSCALE:GREGORIAN
BEGIN:VEVENT
DTSTART:20190915T210000Z
DTEND:20190915T220000Z
X-MICROSOFT-CDO-ALLDAYEVENT:FALSE
SUMMARY:Curator Culture
DESCRIPTION:Acclaimed novelist Edwidge Danticat\, groundbreaking artist and scholar Frances Negr n-Muntaner\, and Curator Culture host Tom Healy engage in a conversation on the connections between art-making and activism\, between the lives we live and the worlds we imagine.
X-ALT-DESC;FMTTYPE=text/html:<p style="margin-left:0px\; margin-right:0px\; text-align:left">Acclaimed novelist Edwidge Danticat\, groundbreaking artist and scholar Frances Negr&oacute\;n-Muntaner\, and Curator Culture host Tom Healy engage in a conversation on the connections between art-making and activism\, between the lives we live and the worlds we imagine.</p>\n
LOCATION:The Bass 2100 Collins Avenue Miami Beach\, FL 33139
UID:e.1580.19503
SEQUENCE:3
DTSTAMP:20260425T154622Z
URL:https://business.mdglcc.com/events/details/curator-culture-09-15-2019-19503
END:VEVENT

END:VCALENDAR
