BEGIN:VCALENDAR
VERSION:2.0
PRODID:-//ChamberMaster//Event Calendar 2.0//EN
METHOD:PUBLISH
X-PUBLISHED-TTL:P3D
REFRESH-INTERVAL:P3D
CALSCALE:GREGORIAN
BEGIN:VEVENT
DTSTART:20191103T220000Z
DTEND:20191103T230000Z
X-MICROSOFT-CDO-ALLDAYEVENT:FALSE
SUMMARY:Curator Culture
DESCRIPTION:Developing expertise\, whether in the craft of science or art\, requires a creative aptitude for storytelling\, especially when navigating high-stakes situations. Together in conversation with host Tom Healy\, NBC 6 Chief Meteorologist John Morales and exhibiting artist Haegue Yang consider the ways in which different cultural and ethnic backgrounds can unite to address universal issues in a complicated future.\n\n\n\nModerated by writer and activist Tom Healy\, the curated conversations are centered around a universal question   what is really worth our time to look at\, listen to\, touch\, taste or talk about? The series aims to bring together unexpected pairings of artists\, engineers\, musicians\, writers\, chefs\, gamers\, political activists\, art curators\, athletes and others who influence the way we look at and experience the world. Curator Culture is presented thanks to a grant from the John S. and James L. Knight Foundation\, as part of its Knight Arts Challenge.\n\nPlease plan to visit the museum prior to the event. The museum will close promptly at the end of the talk. We encourage guests to arrive early\, as seating after the start of the talk will be honored on a first-come\, first-served basis. RSVP is required.
X-ALT-DESC;FMTTYPE=text/html:<h2><span style="font-size:16px"><span style="font-family:maison neue demi\,arial\,helvetica\,sans-serif">Developing expertise\, whether in the craft of science or art\, requires a creative aptitude for storytelling\, especially when navigating high-stakes situations. Together in conversation with host Tom Healy\, NBC 6 Chief Meteorologist John Morales and exhibiting artist Haegue Yang consider the ways in which different cultural and ethnic backgrounds can unite to address universal issues in a complicated future.</span><br />\n<br />\nModerated by writer and activist Tom Healy\, the curated conversations are centered around a universal question &ndash\; what is really worth our time to look at\, listen to\, touch\, taste or talk about? The series aims to bring together unexpected pairings of artists\, engineers\, musicians\, writers\, chefs\, gamers\, political activists\, art&nbsp\;curators\, athletes and others who influence the way we look at and experience the world.&nbsp\;Curator&nbsp\;Culture&nbsp\;is presented thanks to a grant from the John S. and James L. Knight Foundation\, as part of its Knight Arts Challenge.</span></h2>\n\n<h2><span style="font-size:16px">Please plan to visit the museum prior to the event. The museum will close promptly at the end of the talk.&nbsp\;We encourage guests to arrive early\, as seating after the start of the talk will be honored on a first-come\, first-served basis.&nbsp\;RSVP is required.&nbsp\;</span></h2>\n
LOCATION:The Bass 2100 Collins Ave Miami Beach\, FL 33139
UID:e.1580.20347
SEQUENCE:3
DTSTAMP:20260425T115649Z
URL:https://business.mdglcc.com/events/details/curator-culture-11-03-2019-20347
END:VEVENT

END:VCALENDAR
