BEGIN:VCALENDAR
VERSION:2.0
PRODID:-//ChamberMaster//Event Calendar 2.0//EN
METHOD:PUBLISH
X-PUBLISHED-TTL:P3D
REFRESH-INTERVAL:P3D
CALSCALE:GREGORIAN
BEGIN:VEVENT
DTSTART:20190414T210000Z
DTEND:20190414T220000Z
X-MICROSOFT-CDO-ALLDAYEVENT:FALSE
SUMMARY:Curator Culture
DESCRIPTION:Join host Tom Healy\, celebrated artist Sheila Hicks and Sharon Johnston and Mark Lee\, two of America's most talked about young architects\, as they discuss the topic\, 'Thread\, Draw\, Weave & Dream'  a conversation around shaping ideas into being. Hicks' solo exhibition\, Campo Abierto (Open Field)\, opens April 13. Make sure to visit the museum and exhibition prior to the event as the museum will close promptly at the end of the talk. We encourage guests to arrive early\, as seating after the start of the talk will be honored on a first-come\, first-served basis.
X-ALT-DESC;FMTTYPE=text/html:Join host Tom Healy\, celebrated artist Sheila Hicks and Sharon Johnston and Mark Lee\, two of America&rsquo\;s most talked about young architects\, as they discuss the topic\, &#39\;Thread\, Draw\, Weave &amp\; Dream&#39\;&nbsp\; a conversation around shaping ideas into being. Hicks&rsquo\; solo exhibition\, Campo Abierto (Open Field)\, opens April 13. Make sure to visit the museum and exhibition prior to the event as the museum will close promptly at the end of the talk. We encourage guests to arrive early\, as seating after the start of the talk will be honored on a first-come\, first-served basis.
LOCATION:2100 Collins Ave. Miami Beach\, 33139
UID:e.1580.18762
SEQUENCE:3
DTSTAMP:20260426T011243Z
URL:https://business.mdglcc.com/events/details/curator-culture-18762
END:VEVENT

END:VCALENDAR
