BEGIN:VCALENDAR
VERSION:2.0
PRODID:-//ChamberMaster//Event Calendar 2.0//EN
METHOD:PUBLISH
X-PUBLISHED-TTL:P3D
REFRESH-INTERVAL:P3D
CALSCALE:GREGORIAN
BEGIN:VEVENT
DTSTART:20190424T223000Z
DTEND:20190425T000000Z
X-MICROSOFT-CDO-ALLDAYEVENT:FALSE
SUMMARY:Dr. Keon West hosted by YES Institute
DESCRIPTION:"Addressing Anti-gay Stigma in Jamaica"\n\n\n\nWe are honored to welcome and host Dr. Keon West\, an expert in psychology and communication science at Goldsmiths University in the UK to the YES Institute. \n\n\n\nDr. West will be presenting his groundbreaking research on anti-gay stigma in Jamaica. His important contributions to knowledge provide insights into addressing this topic within Jamaica\, and for Jamaican youth and families residing in South Florida. \n\n\n\nWe invite you to participate and engage with Dr. West and YES Institute for a thought provoking interactive community dialogue.
X-ALT-DESC;FMTTYPE=text/html:<span style="background-color:rgb(241\, 243\, 244)\; color:rgb(60\, 64\, 67)\; font-family:roboto\,helvetica\,arial\,sans-serif\; font-size:14px">&quot\;Addressing Anti-gay Stigma in Jamaica&quot\;</span><br />\n<br />\n<span style="color:rgb(60\, 64\, 67)\; font-family:roboto\,helvetica\,arial\,sans-serif\; font-size:14px">We are honored to welcome and host Dr. Keon West\, an expert in psychology and communication science at Goldsmiths University in the UK to the YES Institute.&nbsp\;</span><br />\n<br />\n<span style="color:rgb(60\, 64\, 67)\; font-family:roboto\,helvetica\,arial\,sans-serif\; font-size:14px">Dr. West will be presenting his groundbreaking research on anti-gay stigma in Jamaica. His important contributions to knowledge provide insights into addressing this topic within Jamaica\, and for Jamaican youth and families residing in South Florida.&nbsp\;</span><br />\n<br />\n<span style="color:rgb(60\, 64\, 67)\; font-family:roboto\,helvetica\,arial\,sans-serif\; font-size:14px">We invite you to participate and engage with Dr. West and YES Institute for a thought provoking interactive community dialogue.</span>
LOCATION:5275 Sunset Drive Miami\, FL. 33143
UID:e.1580.18759
SEQUENCE:3
DTSTAMP:20260425T233251Z
URL:https://business.mdglcc.com/events/details/dr-keon-west-hosted-by-yes-institute-18759
END:VEVENT

END:VCALENDAR
