BEGIN:VCALENDAR
VERSION:2.0
PRODID:-//ChamberMaster//Event Calendar 2.0//EN
METHOD:PUBLISH
X-PUBLISHED-TTL:P3D
REFRESH-INTERVAL:P3D
CALSCALE:GREGORIAN
BEGIN:VEVENT
DTSTART:20190929T180000Z
DTEND:20190929T200000Z
X-MICROSOFT-CDO-ALLDAYEVENT:FALSE
SUMMARY:Family Day at The Bass
DESCRIPTION:Ignite your imagination using all of your senses through a series of design challenges.\n\nFamily Day at The Bass is a free\, monthly IDEAS program created to engage families with children of all ages in activities that encourage conversation\, exploration and experimentation through art. Activities include a 'Design Challenge'\, action guides for gallery exploration\, as well as special guest artists or performances. Admission is free throughout the day to all visitors on Family Days.
X-ALT-DESC;FMTTYPE=text/html:<p>Ignite your imagination using all of your senses through a series of design challenges.<br />\nFamily Day at The Bass is a free\, monthly IDEAS program created to engage families with children of all ages in activities that encourage conversation\, exploration and experimentation through art. Activities include a &lsquo\;Design Challenge&rsquo\;\, action guides for gallery exploration\, as well as special guest artists or performances. Admission is free throughout the day to all visitors on Family Days.</p>\n
LOCATION:The Bass Museum of Art 2100 Collins Avenue Miami Beach\, FL 33139
UID:e.1580.19516
SEQUENCE:3
DTSTAMP:20260425T153012Z
URL:https://business.mdglcc.com/events/details/family-day-at-the-bass-09-29-2019-19516
END:VEVENT

END:VCALENDAR
