BEGIN:VCALENDAR
VERSION:2.0
PRODID:-//ChamberMaster//Event Calendar 2.0//EN
METHOD:PUBLISH
X-PUBLISHED-TTL:P3D
REFRESH-INTERVAL:P3D
CALSCALE:GREGORIAN
BEGIN:VEVENT
DTSTART:20190717T040000Z
DTEND:20190902T040000Z
X-MICROSOFT-CDO-ALLDAYEVENT:FALSE
SUMMARY:Free Admission for Kids at Miami Seaquarium
DESCRIPTION:Buy One Adult General Admission Online and Receive One FREE Child Admission* (3-9 yrs.)!\n\nNow   September 2\n\nDon't miss the coolest thing about summer in Miami! Splashtacular Summer offers kids waves of splashing fun with two new inflatable water slides. Salty's Pirate Playground\, and coolest of all\, the Spray & Play misting stations.\n\n\n\nFor Big Kids: The Plunge Double Lane Slide.The Plunge Double Lane slide features a dual 27' drop and extended slides of 68' for double the fun.\n\n\n\nFor the Little Ones: Tahiti Island Fun Slide. Toddlers will take a trip to the islands and enjoy this slide made especially for them.
X-ALT-DESC;FMTTYPE=text/html:Buy One Adult General Admission Online and Receive One FREE Child Admission* (3-9 yrs.)!<br />\nNow &ndash\; September 2<br />\nDon&rsquo\;t miss the coolest thing about summer in Miami! Splashtacular Summer offers kids waves of splashing fun with two new inflatable water slides. Salty&rsquo\;s Pirate Playground\, and coolest of all\, the Spray &amp\; Play misting stations.<br />\n<br />\nFor Big Kids: The Plunge Double Lane Slide.The Plunge Double Lane slide features a dual 27&rsquo\; drop and extended slides of 68&rsquo\; for double the fun.<br />\n<br />\nFor the Little Ones: Tahiti Island Fun Slide. Toddlers will take a trip to the islands and enjoy this slide made especially for them.
LOCATION:
UID:e.1580.19446
SEQUENCE:3
DTSTAMP:20260425T153012Z
URL:https://business.mdglcc.com/events/details/free-admission-for-kids-at-miami-seaquarium-19446
END:VEVENT

END:VCALENDAR
