BEGIN:VCALENDAR
VERSION:2.0
PRODID:-//ChamberMaster//Event Calendar 2.0//EN
METHOD:PUBLISH
X-PUBLISHED-TTL:P3D
REFRESH-INTERVAL:P3D
CALSCALE:GREGORIAN
BEGIN:VEVENT
DTSTART:20190118T000000Z
DTEND:20190201T030000Z
X-MICROSOFT-CDO-ALLDAYEVENT:FALSE
SUMMARY:PLAYTHINGS MIAMI 2019 FREE FASHION SHOW AND ADULT TOYS EVENT
DESCRIPTION:https://www.eventbrite.com/e/runway-fashion-show-at-playthings-miami-you-dont-want-to-miss-tickets-54906521885?aff=utm_source%3Deb_email%26utm_medium%3Demail%26utm_campaign%3Dnew_event_email&utm_term=eventurl_textFree Fashion Show\n\nyou will not want to miss this Miami Event\n\nPlaythings Miami will be debuting their new bedroom lingerie Collection just in time for Valentine's Day!\n\nwhen: Thursday Jan 31st @7pm \n\nwhere:Playthingsmiami \n\n9250 SW 40th st \n\nMiami FL. 33165\n\nlimited Seating Available please RSVP\n\nclaribel@playthingsmiami.com\n\nMust be 18 or Older to attend this Event
X-ALT-DESC;FMTTYPE=text/html:<div style="text-align:center"><a href="https://www.eventbrite.com/e/runway-fashion-show-at-playthings-miami-you-dont-want-to-miss-tickets-54906521885?aff=utm_source%3Deb_email%26utm_medium%3Demail%26utm_campaign%3Dnew_event_email&amp\;utm_term=eventurl_text">https://www.eventbrite.com/e/runway-fashion-show-at-playthings-miami-you-dont-want-to-miss-tickets-54906521885?aff=utm_source%3Deb_email%26utm_medium%3Demail%26utm_campaign%3Dnew_event_email&amp\;utm_term=eventurl_text</a>Free Fashion Show<br />\nyou will&nbsp\;not want to miss this&nbsp\;Miami Event<br />\nPlaythings Miami will be debuting their new bedroom lingerie Collection just in time for Valentine&rsquo\;s Day!<br />\nwhen: Thursday Jan 31st @7pm&nbsp\;<br />\nwhere:Playthingsmiami&nbsp\;<br />\n9250 SW 40th st&nbsp\;<br />\nMiami FL. 33165<br />\nlimited Seating Available please RSVP<br />\nclaribel@playthingsmiami.com</div>\n\n<div style="text-align:center">Must be 18 or Older to attend this Event</div>\n
LOCATION:Playthings 9250 SW 40th st Miami\, FL. 33165
UID:e.1580.17889
SEQUENCE:3
DTSTAMP:20260426T043108Z
URL:https://business.mdglcc.com/events/details/free-fashion-show-17889
END:VEVENT

END:VCALENDAR
