BEGIN:VCALENDAR
VERSION:2.0
PRODID:-//ChamberMaster//Event Calendar 2.0//EN
METHOD:PUBLISH
X-PUBLISHED-TTL:P3D
REFRESH-INTERVAL:P3D
CALSCALE:GREGORIAN
BEGIN:VEVENT
DTSTART:20190419T220000Z
DTEND:20190419T233000Z
X-MICROSOFT-CDO-ALLDAYEVENT:FALSE
SUMMARY:Full Moon Yoga + Crystal Sound Healing
DESCRIPTION:Harness the power of this month's full moon and help release any tension that you've stored over the month to energize the body and open yourself up to receive radiance and positivity helping to guide you into the coming month. Join us for a special 90-minute class\, combining yoga flow finishing with a guided movement meditation\, introducing you to body awareness through use of subtle\, intuitive movement. Closing the practice with shavasana to sounds of crystal bowls in our open-air yoga studio.\n\n\n\nApril's "Pink Moon" signifies rebirth and renewal. After a long winter\, the surfacing of pink in flowers and nature remind us that life has periods of hibernation and reawakening. While the moon itself isn't pink\, the rosy hue that surrounds us in Springtime radiates a feeling of joy and beauty. Awaken from your hibernation and step into your Springtime.\n\n \n\n\n What to bring: We encourage you to wear comfortable workout gear. We'll supply a mat\, water and towels for your workout.\n\nWhat to bring: We encourage you to wear comfortable workout gear. We'll supply a mat\, water and towels for your workout.\n\nLocation: Class takes place in our open-air Ocean Studio\, located near our Sunrise Pool.\n\n$25 per yogi | All levels welcome | Open to the public
X-ALT-DESC;FMTTYPE=text/html:<div style="text-align:center"><span style="font-size:12px">Harness the power of this month&rsquo\;s full moon and help release any tension that you&rsquo\;ve stored over the month to energize the body and open yourself up to receive radiance and positivity helping to guide you into the coming month.&nbsp\;Join us for a special 90-minute class\, combining yoga flow finishing with a&nbsp\;guided movement meditation\, introducing you to body awareness through use of subtle\,&nbsp\;intuitive movement. Closing the practice with shavasana to sounds of crystal bowls&nbsp\;in our open-air yoga studio.<br />\n<br />\n<span style="color:#000000"><span style="font-family:neue plak\,-apple-system\,blinkmacsystemfont\,roboto\,helvetica neue\,helvetica\,tahoma\,arial\,sans-serif">April&#39\;s &quot\;Pink Moon&quot\; signifies rebirth and renewal. After a long winter\, the surfacing of pink in flowers and nature remind us that life has periods of hibernation and reawakening. While the moon itself isn&#39\;t pink\, the rosy hue that surrounds us in Springtime radiates a feeling of joy and beauty. Awaken from your hibernation and step into your Springtime.</span></span></span><br />\n&nbsp\;</div>\n\n<div>\n<div style="text-align:center"><span style="font-size:12px">&nbsp\;</span><strong>What to bring</strong><span style="font-size:12px">: We encourage you to wear comfortable workout gear. We&#39\;ll supply a mat\, water and towels for your workout.</span></div>\n\n<p><strong>What to bring</strong>: We encourage you to wear comfortable workout gear. We&#39\;ll supply a mat\, water and towels for your workout.</p>\n\n<p><strong>Location</strong>: Class takes place in our open-air Ocean Studio\, located near our Sunrise Pool.</p>\n\n<p>$25 per yogi | All levels welcome | Open to the public</p>\n\n<div>&nbsp\;</div>\n</div>\n
LOCATION:Carillon Miami Wellness Resort Location: Class takes place in our open-air Ocean Studio\, located near our Sunrise Pool.
UID:e.1580.18760
SEQUENCE:3
DTSTAMP:20260425T233212Z
URL:https://business.mdglcc.com/events/details/full-moon-yoga-04-19-2019-18760
END:VEVENT

END:VCALENDAR
