BEGIN:VCALENDAR
VERSION:2.0
PRODID:-//ChamberMaster//Event Calendar 2.0//EN
METHOD:PUBLISH
X-PUBLISHED-TTL:P3D
REFRESH-INTERVAL:P3D
CALSCALE:GREGORIAN
BEGIN:VEVENT
DTSTART:20191017T160000Z
DTEND:20191017T173000Z
X-MICROSOFT-CDO-ALLDAYEVENT:FALSE
SUMMARY:Grow Bolder: The Solo Ager™
DESCRIPTION:Complimentary Luncheon & Seminar\n\n\n\nPresented Treece Financial Group in Partnership with Lambda Living\n\n\n\nHosted by Vi at Aventura\n\n\n\nRSVP\n\n \n\nSingle? Living alone? Attend this LGBTQ-focused networking luncheon and presentation to learn how to find support as you face aging challenges. We'll help you answer  \n\n\n	Who will take care of me when I am older and possibly alone?\n	How can I safely stay in my home?\n	If I have to move\, who will help me\, and how do I do this Where would I go?\n	What should I do about long-term care? What if I need help?\n	What planning should I be doing now?\n\n\n\n\nDiscover how to connect with ...\n\n\n\n\n	Accredited fiduciaries to handle your affairs\n	Aging-in-place experts to keep you safe at home\n	Concierge services to help you with day-to-day needs\n	Placement experts to help you find your next home if you want to move\n	Senior move managers to make the transition\n	Care managers to assess your needs and make plans\n	Experts on long-term care\, caretaking\, and senior assistance\n	Legacy and end-of-life planning to make sure you're always taken care of and your wishes are carried out\n	A team of dedicated professionals to put it all together and make it happen for you\n\n\nLimited seating so RSVP early!\n\nLunch options include chicken\, salmon\, or vegetarian. Valet parking. Click here for map and directions to Vi at Aventura.\n\nPlease forward to any employees\, clients\, family members\, friends\, or neighbors that may benefit from attending this educational event.
X-ALT-DESC;FMTTYPE=text/html:<div>\n<div><strong>Complimentary Luncheon &amp\; Seminar</strong></div>\n</div>\n\n<div>\n<div><strong>Presented Treece Financial Group in Partnership with Lambda Living</strong></div>\n</div>\n\n<div>\n<div><strong>Hosted by Vi at Aventura<br />\n<br />\n<a href="https://www.treecefinancialgroup.com/events/grow-bolder-the-solo-ager-1">RSVP</a></strong></div>\n\n<div>&nbsp\;</div>\n\n<div><em>Single? Living alone? </em>Attend this LGBTQ-focused networking luncheon and presentation to learn how to find support as you face aging challenges. We&rsquo\;ll help you answer &hellip\;</div>\n\n<ul>\n	<li>Who will take care of me when I am older and possibly alone?</li>\n	<li>How can I safely stay in my home?</li>\n	<li>If I have to move\, who will help me\, and how do I do this Where would I go?</li>\n	<li>What should I do about long-term care? What if I need help?</li>\n	<li>What planning should I be doing now?</li>\n</ul>\n</div>\n\n<div>\n<div>Discover how to connect with ...</div>\n</div>\n\n<div>\n<ul>\n	<li>Accredited fiduciaries to handle your affairs</li>\n	<li>Aging-in-place experts to keep you safe at home</li>\n	<li>Concierge services to help you with day-to-day needs</li>\n	<li>Placement experts to help you find your next home if you want to move</li>\n	<li>Senior move managers to make the transition</li>\n	<li>Care managers to assess your needs and make plans</li>\n	<li>Experts on long-term care\, caretaking\, and senior assistance</li>\n	<li>Legacy and end-of-life planning to make sure you&rsquo\;re always taken care of and your wishes are carried out</li>\n	<li>A team of dedicated professionals to put it all together and make it happen for you</li>\n</ul>\n\n<div style="text-align:center"><strong>Limited seating&mdash\;so&nbsp\;</strong><a href="http://r20.rs6.net/tn.jsp?f=001luZebnDlYBwMaBtvAeskF1mKBWSnmAlmISjdk1XqvUUnUoUpDCsx5hhRk9niNG6MsMNFO1voPrnOHiDRmdHTdnt9qWhee7_HonHipbJhK6wEbYzdIBXhg4TfBT1FYjXhTG1nduKz6DB8GMKyRUjo_mtYUASrFvoqejPBox2cPFGGF5uRorXOTm7QEmDw_uBtFAL2wKStNh9f_4xWtSJxRA==&amp\;c=jJqGNzSBThfUaCmxdv5V1d7pj03h8BhfurSZ02NjbQivCXZMeNBzLA==&amp\;ch=gu7uhNw22QkAvFUdgz1Z35XYgaWcjE8SuLJqaVFmmWhcaCDJpYnPqA==" rel="nofollow" style="color: rgb(255\, 114\, 0)\; font-size: 16px\; font-weight: bold\;" target="_blank">RSVP</a><strong>&nbsp\;early!</strong></div>\n\n<div style="text-align:center"><strong>Lunch options include chicken\, salmon\, or vegetarian. Valet parking. Click here for&nbsp\;</strong><a href="http://r20.rs6.net/tn.jsp?f=001luZebnDlYBwMaBtvAeskF1mKBWSnmAlmISjdk1XqvUUnUoUpDCsx5hhRk9niNG6Mv1hZOXwR81TpvN5T7oGDriUeE6S2w0uolca616-1yksP-hM4RmEKkybLsoSb-2LFZGUkEaBUapsLp2HZhpy_Mh-Jh072W9ir9JMKxGdM--uSuXj9nuAlyHPXNyiRwdicnLCpI2zkudnX4Jy8lPIJWsEDpblzDmaGHCjV0zDtY6-FkhGwF3IKLrqZwN9WGtZWa3lvrVGg6nge6nXwHEbkWPVe0k9F1IjjAuxLzbjSFBL9l4fSZ2cdlCvSLJG7YDr8V6uLy1Yd5_CaZGNMZFHl3Ib4Oqcs7NP3ASUyMIqmpDxmyyxLWXPnxdD2__g9A6BtWxynmndPv7VbcsMc3kCLo3U0p6xvMnNAuEfbNiPPgedNzBFIMm8ZbY1YzfT-oJtJ&amp\;c=jJqGNzSBThfUaCmxdv5V1d7pj03h8BhfurSZ02NjbQivCXZMeNBzLA==&amp\;ch=gu7uhNw22QkAvFUdgz1Z35XYgaWcjE8SuLJqaVFmmWhcaCDJpYnPqA==" rel="nofollow" style="color: rgb(255\, 114\, 0)\; font-size: 16px\; font-weight: bold\;" target="_blank">map and directions</a><strong>&nbsp\;to Vi at Aventura.</strong></div>\n\n<p style="text-align: center\;"><em>Please forward to any employees\, clients\, family members\, friends\, or neighbors that may benefit from attending this educational event.</em></p>\n</div>\n
LOCATION:Vi at Aventura 19333 West Country Club Drive Aventura\, FL 33180 (Valet Parking | Map & Directions)
UID:e.1580.20234
SEQUENCE:3
DTSTAMP:20260425T133550Z
URL:https://business.mdglcc.com/events/details/grow-bolder-the-solo-ager-20234
END:VEVENT

END:VCALENDAR
