BEGIN:VCALENDAR
VERSION:2.0
PRODID:-//ChamberMaster//Event Calendar 2.0//EN
METHOD:PUBLISH
X-PUBLISHED-TTL:P3D
REFRESH-INTERVAL:P3D
CALSCALE:GREGORIAN
BEGIN:VEVENT
DTSTART:20220722T140000Z
DTEND:20220722T150000Z
X-MICROSOFT-CDO-ALLDAYEVENT:FALSE
SUMMARY:Grow with Google en Español Webinar - Alcance Sus Clientes En Linea Con Google
DESCRIPTION:Grow with Google en Espa ol es parte de nuestra nueva serie educativa\, MDGLCC-U\, que le ofrece a usted y a su organizaci n una gran cantidad de temas que les ayuda crecer su negocio y tener  xito.  \n\n\n\nAprende c mo encontrar tu negocio en l nea con Google. Este taller explica c mo funciona el Buscador de Google y c mo puedes mejorar la visibilidad de tu p gina web a trav s de la optimizaci n de motores de b squeda (SEO). La sesi n tambi n presenta productos como Google Mi Negocio\, Google Trends\, Search Console\, Google Analytics\, Google Ads y m s. \n\n\n\nEl evento esta copatricionado con la Pontificia Universidad Cat lica de Puerto Rico.\n\n\n\n\n\nPresentadora: Sixcia Devine
X-ALT-DESC;FMTTYPE=text/html:<span style="font-size:16px\;"><span style="font-family:arial\;"><a href="https://grow.google/">Grow with Google</a>&nbsp\;en Espa&ntilde\;ol es parte de nuestra nueva serie educativa\, MDGLCC-U\, que le ofrece a usted y a su organizaci&oacute\;n una gran cantidad de temas que les ayuda crecer su negocio y tener &eacute\;xito.&nbsp\;&nbsp\;<br />\n<br />\n<span style="color: rgb(35\, 35\, 51)\;">Aprende c&oacute\;mo encontrar tu negocio en l&iacute\;nea con Google. Este taller explica c&oacute\;mo funciona el Buscador de Google y c&oacute\;mo puedes mejorar la visibilidad de tu p&aacute\;gina web a trav&eacute\;s de la optimizaci&oacute\;n de motores de b&uacute\;squeda (SEO). La sesi&oacute\;n tambi&eacute\;n presenta productos como Google Mi Negocio\, Google Trends\, Search Console\, Google Analytics\, Google Ads y m&aacute\;s.</span>&nbsp\;<br />\n<br />\nEl evento esta copatricionado con la&nbsp\;<span style="color: rgb(34\, 34\, 34)\;">Pontificia Universidad Cat&oacute\;lica&nbsp\;de Puerto Rico.</span><br />\n<br />\n<br />\n<span style="color: rgb(35\, 35\, 51)\;">Presentadora: <a href="https://www.linkedin.com/in/sixcia/">Sixcia Devine</a></span></span></span><br />\n&nbsp\;
LOCATION:Webinar a trav s de Google Meet (despu s de su registraci n\, le enviaremos el enlace de Google Meet)
UID:e.1580.30280
SEQUENCE:3
DTSTAMP:20260419T120132Z
URL:https://business.mdglcc.com/events/details/grow-with-google-en-espa&#241;ol-webinar-alcance-sus-clientes-en-linea-con-google-30280
END:VEVENT

END:VCALENDAR
