BEGIN:VCALENDAR
VERSION:2.0
PRODID:-//ChamberMaster//Event Calendar 2.0//EN
METHOD:PUBLISH
X-PUBLISHED-TTL:P3D
REFRESH-INTERVAL:P3D
CALSCALE:GREGORIAN
BEGIN:VEVENT
DTSTART;VALUE=DATE:20190902
DTEND;VALUE=DATE:20190909
TRANSP:TRANSPARENT
X-MICROSOFT-CDO-ALLDAYEVENT:TRUE
SUMMARY:Happy Grandparents Day!
DESCRIPTION:Celebrate Grandparents Day with us all week! From September 2 through 8\, all grandparents will receive free admission. Simply bring a Grandparent's Day card to our dolphin and sea lion grandmothers\, and one of your grandparents will receive free admission. Don't forget to mention this special offer at the front gate!
X-ALT-DESC;FMTTYPE=text/html:Celebrate Grandparents Day with us all week! From September 2 through 8\, all grandparents will receive free admission. Simply bring a Grandparent&rsquo\;s Day card to our dolphin and sea lion grandmothers\, and one of your grandparents will receive free admission. Don&rsquo\;t forget to mention this special offer at the front gate!
LOCATION:
UID:e.1580.19484
SEQUENCE:3
DTSTAMP:20260425T154607Z
URL:https://business.mdglcc.com/events/details/happy-grandparents-day-19484
END:VEVENT

END:VCALENDAR
