BEGIN:VCALENDAR
VERSION:2.0
PRODID:-//ChamberMaster//Event Calendar 2.0//EN
METHOD:PUBLISH
X-PUBLISHED-TTL:P3D
REFRESH-INTERVAL:P3D
CALSCALE:GREGORIAN
BEGIN:VEVENT
DTSTART:20190326T130000Z
DTEND:20190326T150000Z
X-MICROSOFT-CDO-ALLDAYEVENT:FALSE
SUMMARY:Hispanic Business Buildup
DESCRIPTION:The Better Business Bureau serving Southeast Florida and the Caribbean is proud to invite you to our FREE Hispanic Business Buildup event. This event will feature an informative panel by top Hispanic leaders speaking on some of the key challenges and solutions facing Hispanic businesses in South Florida. The Miami Heat will be there with their trophies for photo opportunities\, and a raffle\, refreshments and speed networking event are included.\n\n\n\nCLICK HERE TO RSVP
X-ALT-DESC;FMTTYPE=text/html:<span style="color:rgb(41\, 41\, 41)\; font-family:roboto\; font-size:18px">The Better Business Bureau serving Southeast Florida and the Caribbean is proud to invite you to our </span><span style="color:rgb(41\, 41\, 41)\; font-family:roboto\; font-size:18px">FREE </span><span style="color:rgb(41\, 41\, 41)\; font-family:roboto\; font-size:18px">Hispanic Business Buildup</span><span style="color:rgb(41\, 41\, 41)\; font-family:roboto\; font-size:18px"> event. This event will feature an informative panel by top Hispanic leaders speaking on some of the key challenges and solutions facing Hispanic businesses in South Florida. The Miami Heat will be there with their trophies for photo opportunities\, and a raffle\, refreshments and speed networking event are included.<br />\n<br />\n<a href="http://unbouncepages.com/better_business_bureau/">CLICK HERE TO RSVP</a></span><br />\n<br />\n&nbsp\;
LOCATION:AmericanAirlines Arena\, 601 Biscayne Blvd\, Miami\, FL 33132
UID:e.1580.18545
SEQUENCE:3
DTSTAMP:20260426T011346Z
URL:https://business.mdglcc.com/events/details/hispanic-business-buildup-18545
END:VEVENT

END:VCALENDAR
