BEGIN:VCALENDAR
VERSION:2.0
PRODID:-//ChamberMaster//Event Calendar 2.0//EN
METHOD:PUBLISH
X-PUBLISHED-TTL:P3D
REFRESH-INTERVAL:P3D
CALSCALE:GREGORIAN
BEGIN:VEVENT
DTSTART;VALUE=DATE:20191101
DTEND;VALUE=DATE:20191123
TRANSP:TRANSPARENT
X-MICROSOFT-CDO-ALLDAYEVENT:TRUE
SUMMARY:Holiday Parties at Hilton Cabana - FALL PROMO!
DESCRIPTION:Holiday season is upon us! Anyone out there looking to do something special for their team - OUTSIDE of the office? We've just launched our Holiday menu with everything from cocktail receptions to dinner parties. Indoor and outdoor spaces available. Check out our oceanfront venue ideal for your "Winter in Miami" celebration!\n\n\n\nEmail rvillar@cabanamiami.com to receive a quote and holiday menu. Please include date and number of guests. All bookings made by Nov 22nd receive 10% OFF food & beverage services + a complimentary one-night stay for the planner at our Oceanfront hotel!
X-ALT-DESC;FMTTYPE=text/html:<span style="color:rgba(0\, 0\, 0\, 0.9)\; font-family:-apple-system\,system-ui\,blinkmacsystemfont\,segoe ui\,roboto\,helvetica neue\,fira sans\,ubuntu\,oxygen\,oxygen sans\,cantarell\,droid sans\,apple color emoji\,segoe ui emoji\,segoe ui symbol\,lucida grande\,helvetica\,arial\,sans-serif\; font-size:14px">Holiday season is upon us! Anyone out there looking to do something special for their team - OUTSIDE of the office? We&#39\;ve just launched our Holiday menu with everything from cocktail receptions to dinner parties. Indoor and outdoor spaces available. Check out our oceanfront venue ideal for your &quot\;<strong>Winter in Miami</strong>&quot\; celebration!<br />\n<br />\nEmail </span><a class="feed-shared-text-view__email ember-view" href="mailto:rvillar@cabanamiami.com" id="ember1846" rel="noopener noreferrer" style="box-sizing: inherit\; margin: 0px\; padding: 0px\; font-size: 14px\; vertical-align: baseline\; background-image: initial\; background-position: initial\; background-size: initial\; background-repeat: initial\; background-attachment: initial\; background-origin: initial\; background-clip: initial\; text-decoration-line: none\; font-weight: 600\; border: 0px\; color: rgb(102\, 94\, 208)\; touch-action: manipulation\; position: relative\; font-family: -apple-system\, system-ui\, BlinkMacSystemFont\, &quot\;Segoe UI&quot\;\, Roboto\, &quot\;Helvetica Neue&quot\;\, &quot\;Fira Sans&quot\;\, Ubuntu\, Oxygen\, &quot\;Oxygen Sans&quot\;\, Cantarell\, &quot\;Droid Sans&quot\;\, &quot\;Apple Color Emoji&quot\;\, &quot\;Segoe UI Emoji&quot\;\, &quot\;Segoe UI Symbol&quot\;\, &quot\;Lucida Grande&quot\;\, Helvetica\, Arial\, sans-serif\; white-space: pre-wrap\; line-height: inherit !important\;" tabindex="0" target="_blank">rvillar@cabanamiami.com</a><span style="color:rgba(0\, 0\, 0\, 0.9)\; font-family:-apple-system\,system-ui\,blinkmacsystemfont\,segoe ui\,roboto\,helvetica neue\,fira sans\,ubuntu\,oxygen\,oxygen sans\,cantarell\,droid sans\,apple color emoji\,segoe ui emoji\,segoe ui symbol\,lucida grande\,helvetica\,arial\,sans-serif\; font-size:14px"> to receive a quote and holiday menu. Please include date and number of guests. <strong>All bookings made by Nov 22nd receive 10% OFF food &amp\; beverage services + a complimentary one-night stay for the planner at our Oceanfront hotel!</strong></span>
LOCATION:Hilton Cabana Miami Beach 6261 Collins Avenue |Miami Beach\, FL 33140
UID:e.1580.20363
SEQUENCE:3
DTSTAMP:20260425T120408Z
URL:https://business.mdglcc.com/events/details/holiday-parties-at-hilton-cabana-fall-promo-20363
END:VEVENT

END:VCALENDAR
