BEGIN:VCALENDAR
VERSION:2.0
PRODID:-//ChamberMaster//Event Calendar 2.0//EN
METHOD:PUBLISH
X-PUBLISHED-TTL:P3D
REFRESH-INTERVAL:P3D
CALSCALE:GREGORIAN
BEGIN:VEVENT
DTSTART:20190924T140000Z
DTEND:20190924T150000Z
X-MICROSOFT-CDO-ALLDAYEVENT:FALSE
SUMMARY:Hospitality Council Meeting
DESCRIPTION:Mission - The Hospitality Council of the Miami-Dade Gay & Lesbian Chamber of Commerce (only active members of the Chamber can participate) is a member industry group established to guide the Chamber in all matters relating to:\n\n\n	Advocacy and Industry Trends and Analysis\n	LGBT Tourism Trends and Tracking\n	Pink Flamingo Hospitality Certification Program\n	Market Greater Miami and Beaches as a Premier LGBT Travel Destination
X-ALT-DESC;FMTTYPE=text/html:<p style="background-color: transparent\; box-sizing: border-box\; color: rgb(63\, 63\, 63)\; font-family: "><br />\nMission -&nbsp\;The Hospitality Council of the Miami-Dade Gay &amp\; Lesbian Chamber of Commerce (only active members of the Chamber can participate) is a member industry group established to guide the Chamber in all matters relating to:</p>\n\n<ul helvetica="" style="background-color: transparent\; box-sizing: border-box\; color: rgb(63\, 63\, 63)\; font-family: ">\n	<li style="box-sizing: border-box\;">Advocacy and Industry Trends and Analysis</li>\n	<li style="box-sizing: border-box\;">LGBT Tourism Trends and Tracking</li>\n	<li style="box-sizing: border-box\;">Pink Flamingo Hospitality Certification Program</li>\n	<li style="box-sizing: border-box\;">Market Greater Miami and Beaches as a Premier LGBT Travel Destination<br />\n	&nbsp\;<br />\n	&nbsp\;</li>\n</ul>\n
LOCATION:The Confidante Miami Beach 4041 Collins Ave. Miami Beach\, FL 33140
UID:e.1580.19494
SEQUENCE:3
DTSTAMP:20260425T152848Z
URL:https://business.mdglcc.com/events/details/hospitality-council-meeting-axelbeach-miami-19494
END:VEVENT

END:VCALENDAR
