BEGIN:VCALENDAR
VERSION:2.0
PRODID:-//ChamberMaster//Event Calendar 2.0//EN
METHOD:PUBLISH
X-PUBLISHED-TTL:P3D
REFRESH-INTERVAL:P3D
CALSCALE:GREGORIAN
BEGIN:VEVENT
DTSTART:20191024T140000Z
DTEND:20191024T150000Z
X-MICROSOFT-CDO-ALLDAYEVENT:FALSE
SUMMARY:Hospitality Council Meeting @ Lennox Hotels Miami Beach
DESCRIPTION:Mission - The Hospitality Council of the Miami-Dade Gay & Lesbian Chamber of Commerce (only active members of the Chamber can participate) is a member industry group established to guide the Chamber in all matters relating to:\n\n\n	Advocacy and Industry Trends and Analysis\n	LGBT Tourism Trends and Tracking\n	Pink Flamingo Hospitality Certification Program\n	Market Greater Miami and Beaches as a Premier LGBT Travel Destination\n\n\nGuest Speakers:\n\nTimothy Schmand\, Lincoln Road BID\n\nCeci Velasco\, Ocean Drive Association\n\nTroy Wright\, Washington BID
X-ALT-DESC;FMTTYPE=text/html:<p style="background-color: transparent\; box-sizing: border-box\; color: rgb(63\, 63\, 63)\; font-family: ">Mission -&nbsp\;The Hospitality Council of the Miami-Dade Gay &amp\; Lesbian Chamber of Commerce (only active members of the Chamber can participate) is a member industry group established to guide the Chamber in all matters relating to:</p>\n\n<ul helvetica="" style="background-color: transparent\; box-sizing: border-box\; color: rgb(63\, 63\, 63)\; font-family: ">\n	<li style="box-sizing: border-box\;">Advocacy and Industry Trends and Analysis</li>\n	<li style="box-sizing: border-box\;">LGBT Tourism Trends and Tracking</li>\n	<li style="box-sizing: border-box\;">Pink Flamingo Hospitality Certification Program</li>\n	<li style="box-sizing: border-box\;">Market Greater Miami and Beaches as a Premier LGBT Travel Destination</li>\n</ul>\n\n<div style="box-sizing: border-box\;"><strong>Guest Speakers:</strong><br />\nTimothy Schmand\, Lincoln Road BID<br />\nCeci Velasco\, Ocean Drive Association<br />\nTroy Wright\, Washington BID</div>\n
LOCATION:Lennox Hotels Miami Beach 1900 Collins Avenue Miami Beach\, FL 33139
UID:e.1580.20037
SEQUENCE:3
DTSTAMP:20260425T134016Z
URL:https://business.mdglcc.com/events/details/hospitality-council-meeting-lennox-hotels-miami-beach-20037
END:VEVENT

END:VCALENDAR
