BEGIN:VCALENDAR
VERSION:2.0
PRODID:-//ChamberMaster//Event Calendar 2.0//EN
METHOD:PUBLISH
X-PUBLISHED-TTL:P3D
REFRESH-INTERVAL:P3D
CALSCALE:GREGORIAN
BEGIN:VEVENT
DTSTART:20220315T140000Z
DTEND:20220315T150000Z
X-MICROSOFT-CDO-ALLDAYEVENT:FALSE
SUMMARY:Hospitality Council Meeting @ The Anglers Hotel
DESCRIPTION:Mission - The Hospitality Council of the Miami-Dade Gay & Lesbian Chamber of Commerce (only active members of the Chamber can participate) is a member industry group established to guide the Chamber in all matters relating to:\n\n\n	Advocacy and industry trends and analysis\n	LGBT tourism trends and tracking\n	Pink Flamingo Hospitality Certification Program\n	Marketing Greater Miami and Beaches as a premier LGBT travel destination\n\n\nThis meeting will consist of the traditional agenda.
X-ALT-DESC;FMTTYPE=text/html:<p style="background-color: transparent\; box-sizing: border-box\; color: rgb(63\, 63\, 63)\;"><span style="font-family:arial\;"><span style="font-size:16px\;">Mission - The Hospitality Council of the Miami-Dade Gay &amp\; Lesbian Chamber of Commerce (<u>only active members of the Chamber can participate</u>) is a member industry group established to guide the Chamber in all matters relating to:</span></span></p>\n\n<ul helvetica="" style="background-color: transparent\; box-sizing: border-box\; color: rgb(63\, 63\, 63)\;">\n	<li style="box-sizing: border-box\;"><span style="font-family:arial\;"><span style="font-size:16px\;">Advocacy and industry trends and analysis</span></span></li>\n	<li style="box-sizing: border-box\;"><span style="font-family:arial\;"><span style="font-size:16px\;">LGBT tourism trends and tracking</span></span></li>\n	<li style="box-sizing: border-box\;"><span style="font-family:arial\;"><span style="font-size:16px\;">Pink Flamingo Hospitality Certification Program</span></span></li>\n	<li style="box-sizing: border-box\;"><span style="font-family:arial\;"><span style="font-size:16px\;">Marketing Greater Miami and Beaches as a premier LGBT travel destination</span></span></li>\n</ul>\n\n<div style="box-sizing: border-box\;"><span style="font-family:arial\;"><span style="font-size:16px\;">This meeting will consist of the traditional agenda.&nbsp\;</span>&nbsp\;</span></div>\n
LOCATION:The Angler's Hotel 660 Washington Avenue Miami Beach\, FL. 33139 www.anglershotelmiami.com
UID:e.1580.29814
SEQUENCE:3
DTSTAMP:20260421T183609Z
URL:https://business.mdglcc.com/events/details/hospitality-council-meeting-the-anglers-hotel-29814
END:VEVENT

END:VCALENDAR
