BEGIN:VCALENDAR
VERSION:2.0
PRODID:-//ChamberMaster//Event Calendar 2.0//EN
METHOD:PUBLISH
X-PUBLISHED-TTL:P3D
REFRESH-INTERVAL:P3D
CALSCALE:GREGORIAN
BEGIN:VEVENT
DTSTART:20190630T230000Z
DTEND:20190701T030000Z
X-MICROSOFT-CDO-ALLDAYEVENT:FALSE
SUMMARY:Jefferson Starship One Night Only Concert
DESCRIPTION:The iconic rock 'n roll band\, Jefferson Starship\, is making its way to Faena Theater for an electrifying concert on June 30!\n\nJefferson Starship descended from Rock & Roll Hall of Fame inductees and Grammy Lifetime Achievement Award recipients\, Jefferson Airplane\, whose pioneering psychedelic sound headlined famous music festivals like Woodstock and Monterey. \n\nBetween 1974 and 1984\, Jefferson Starship released eight gold and platinum albums and went on to tour worldwide in sold-out venues.\n\n In concert at Faena Theater will be historic members David Freiberg and Donny Baldwin\, along with longtime members Chris Smith and Jude Gold. Grammy nominee Cathy Richardson will anchor the female lead vocals\, made famous by the inimitable Grace Slick.
X-ALT-DESC;FMTTYPE=text/html:<h2 style="text-align:center">The iconic rock &lsquo\;n roll band\, Jefferson Starship\, is making its way to Faena Theater for an electrifying concert on June 30!</h2>\n\n<p style="text-align:center">Jefferson Starship descended from Rock &amp\; Roll Hall of Fame inductees and Grammy Lifetime Achievement Award recipients\, Jefferson Airplane\, whose pioneering psychedelic sound headlined famous music festivals like Woodstock and Monterey.&nbsp\;<br />\nBetween 1974 and 1984\, Jefferson Starship released eight gold and platinum albums and went on to tour worldwide in sold-out venues.</p>\n\n<p style="text-align:center">&nbsp\;In concert at Faena Theater will be historic members David Freiberg and Donny Baldwin\, along with longtime members Chris Smith and Jude Gold. Grammy nominee Cathy Richardson will anchor the female lead vocals\, made famous by the inimitable Grace Slick.</p>\n
LOCATION:FAENA THEATER 3201 COLLINS AVE MIAMI BEACH\, FL 33140
UID:e.1580.19375
SEQUENCE:3
DTSTAMP:20260425T204544Z
URL:https://business.mdglcc.com/events/details/jefferson-starship-one-night-only-concert-19375
END:VEVENT

END:VCALENDAR
