BEGIN:VCALENDAR
VERSION:2.0
PRODID:-//ChamberMaster//Event Calendar 2.0//EN
METHOD:PUBLISH
X-PUBLISHED-TTL:P3D
REFRESH-INTERVAL:P3D
CALSCALE:GREGORIAN
BEGIN:VEVENT
DTSTART:20191106T220000Z
DTEND:20191107T010000Z
X-MICROSOFT-CDO-ALLDAYEVENT:FALSE
SUMMARY:Just for Me Evening
DESCRIPTION:Frost Science invites individuals with special needs and their families for a sensory-friendly evening of hands-on exploration and discovery. Designed to be a comfortable and welcoming environment for individuals of all abilities\, guests will have the opportunity to enjoy select exhibitions without a crowd   including the Aquarium and MeLa  .\n\n \n\nWhat is Just for Me?\n\nJust for Me is a program dedicated to welcoming individuals and families with special needs to explore the world of Frost Science. This program will take place on a weekday evening to provide an opportunity for you and your family to enjoy the museum in a quiet\, comfortable and accepting environment. Just for Me includes a sensory modified setting\, limited admission and sound/lighting adjustments. We encourage families to make connections and share resources. \n\n \n\nOnsite parking is available in the museum garage for $8 flat rate starting at 5:00 p.m. All cars must exit garage by 9:00 p.m. Flat rate will not apply to cars that enter the garage before 5:00 p.m.\n\n \n\nEvening Schedule:\n\n5:00 p.m. Just for Me Evening participants may start to enter the museum. All regular admission exhibitions will be open with no modifications.\n\n6:00 p.m. General admission ends. Just for Me Evening participants may continue to arrive and/or continue museum exploration in select exhibitions including Aquarium and MeLaB.\n\n6:15 p.m. Frost Planetarium Show: "Dynamic Earth"\, approximate 30 minutes in duration (optional).\n\n6:30 p.m. Just for Me Evening continues with sensory modified settings for open exhibitions: Aquarium and MeLaB. All other exhibitions will be closed.\n\n8:00 p.m. Just for Me Evening ends.\n\nJust for Me program is supported by:\n\n \n\n \n\nParking Instructions:\n\nOnsite parking is available in the museum garage for $8 flat rate starting at 5:00 p.m. All cars must exit garage by 9:00 p.m.\n\nFlat rate will not apply to cars that enter the garage before 5:00 p.m.
X-ALT-DESC;FMTTYPE=text/html:<div>Frost Science invites individuals with special needs and their families for a sensory-friendly evening of hands-on exploration and discovery. Designed to be a comfortable and welcoming environment for individuals of all abilities\, guests will have the opportunity to enjoy select exhibitions without a crowd &ndash\; including the Aquarium and MeLa&beta\; .</div>\n\n<div>&nbsp\;</div>\n\n<div><strong>What is Just for Me?</strong></div>\n\n<div>Just for Me is a program dedicated to welcoming individuals and families with special needs to explore the world of Frost Science. This program will take place on a weekday evening to provide an opportunity for you and your family to enjoy the museum in a quiet\, comfortable and accepting environment. Just for Me includes a sensory modified setting\, limited admission and sound/lighting adjustments. We encourage families to make connections and share resources.&nbsp\;</div>\n\n<div>&nbsp\;</div>\n\n<div>Onsite parking is available in the museum garage for $8 flat rate starting at 5:00 p.m. All cars must exit garage by 9:00 p.m. Flat rate will not apply to cars that enter the garage before 5:00 p.m.</div>\n\n<div>&nbsp\;</div>\n\n<div><strong>Evening Schedule:</strong></div>\n\n<div><strong>5:00 p.m.</strong> Just for Me Evening participants may start to enter the museum. All regular admission exhibitions will be open with no modifications.</div>\n\n<div><strong>6:00 p.m.</strong> General admission ends. Just for Me Evening participants may continue to arrive and/or continue museum exploration in select exhibitions including Aquarium and MeLaB.</div>\n\n<div><strong>6:15 p.m.</strong> Frost Planetarium Show: &ldquo\;Dynamic Earth&rdquo\;\, approximate 30 minutes in duration (optional).</div>\n\n<div><strong>6:30 p.m.</strong> Just for Me Evening continues with sensory modified settings for open exhibitions: Aquarium and MeLaB. All other exhibitions will be closed.</div>\n\n<div><strong>8:00 p.m.</strong> Just for Me Evening ends.</div>\n\n<div>Just for Me program is supported by:</div>\n\n<div>&nbsp\;</div>\n\n<div>&nbsp\;</div>\n\n<div><strong>Parking Instructions:</strong></div>\n\n<div>Onsite parking is available in the museum garage for $8 flat rate starting at 5:00 p.m. All cars must exit garage by 9:00 p.m.</div>\n\n<div>Flat rate will not apply to cars that enter the garage before 5:00 p.m.</div>\n\n<div>&nbsp\;</div>\n
LOCATION:Phillip and Patricia Frost Museum of Science 1101 Biscayne Blvd Miami\, FL 33132
UID:e.1580.20355
SEQUENCE:3
DTSTAMP:20260425T115327Z
URL:https://business.mdglcc.com/events/details/just-for-me-evening-20355
END:VEVENT

END:VCALENDAR
