BEGIN:VCALENDAR
VERSION:2.0
PRODID:-//ChamberMaster//Event Calendar 2.0//EN
METHOD:PUBLISH
X-PUBLISHED-TTL:P3D
REFRESH-INTERVAL:P3D
CALSCALE:GREGORIAN
BEGIN:VEVENT
DTSTART:20191115T233000Z
DTEND:20191116T050000Z
X-MICROSOFT-CDO-ALLDAYEVENT:FALSE
SUMMARY:Kids Night at the Museum
DESCRIPTION:Want to spend a child-free evening on the town while your child explores the museum after dark? Drop off your kids on Friday\, November 15 so they can explore our most popular exhibitions\, experience enhanced programming\, dinner and more while you relax knowing they're taken care of for the evening.\n\nThroughout the night\, your children will be able to explore exhibitions\, including the Aquarium\, as well as other select exhibitions. They will also participate in hands-on activities\, see an interactive live science show\, and enjoy an exclusive show in the Frost Planetarium.\n\n\n	Cheese pizza dinner and a late night snack are included.\n	Drop-off is between 6:30 p.m.   7:30 p.m.\n	Pick-up is between 10:00 p.m.   12:00 a.m.\n\n\nAfter registration for one or more children to Kids Night at the Museum\, caregivers will receive information on special discounts and offers available at nearby partners\, including Toro Toro Restaurant at InterContinental Miami\, and CVLTVRA restaurant\, located at The Gabriel Miami\, Curio Collection by Hilton.\n\n\n\nParking Instructions\n\n\n	Parking will be available at a flat rate of $10 beginning at 6:00 p.m.
X-ALT-DESC;FMTTYPE=text/html:<div style="margin-left:-12px\; margin-right:-12px">\n<div style="margin-left:0px\; margin-right:auto">\n<p><strong>Want to spend a child-free evening on the town while your child explores the museum after dark? Drop off your kids on Friday\, November 15 so they can explore our most popular exhibitions\, experience enhanced programming\, dinner and more while you relax knowing they&rsquo\;re taken care of for the evening.</strong></p>\n\n<p>Throughout the night\, your children will be able to explore exhibitions\, including the&nbsp\;<a href="http://www.frostscience.org/exhibition/aquarium/" rel="noopener" style="box-sizing: border-box\; background-color: transparent\; color: rgb(0\, 179\, 230)\; text-decoration-line: none\;" target="_blank">Aquarium\,</a>&nbsp\;as well as other select exhibitions. They will also participate in hands-on activities\, see an interactive live science show\, and enjoy an exclusive show in the Frost Planetarium.</p>\n\n<ul>\n	<li>Cheese pizza dinner and a late night snack are included.</li>\n	<li>Drop-off is between 6:30 p.m. &ndash\; 7:30 p.m.</li>\n	<li>Pick-up is between 10:00 p.m. &ndash\; 12:00 a.m.</li>\n</ul>\n\n<p>After registration for one or more children to&nbsp\;Kids&nbsp\;Night&nbsp\;at the Museum\, caregivers will receive information on special discounts and offers available at nearby partners\, including Toro Toro Restaurant at InterContinental Miami\, and CVLTVRA restaurant\, located at The Gabriel Miami\, Curio Collection by Hilton.</p>\n</div>\n</div>\n\n<h2>Parking Instructions</h2>\n\n<ul>\n	<li>Parking will be available at a flat rate of $10 beginning at 6:00 p.m.</li>\n</ul>\n
LOCATION:Phillip and Patricia Frost Museum of Science 1101 Biscayne Blvd Miami\, FL 33132
UID:e.1580.20367
SEQUENCE:3
DTSTAMP:20260425T115623Z
URL:https://business.mdglcc.com/events/details/kids-night-at-the-museum-20367
END:VEVENT

END:VCALENDAR
