BEGIN:VCALENDAR
VERSION:2.0
PRODID:-//ChamberMaster//Event Calendar 2.0//EN
METHOD:PUBLISH
X-PUBLISHED-TTL:P3D
REFRESH-INTERVAL:P3D
CALSCALE:GREGORIAN
BEGIN:VEVENT
DTSTART;VALUE=DATE:20190831
DTEND;VALUE=DATE:20190903
TRANSP:TRANSPARENT
X-MICROSOFT-CDO-ALLDAYEVENT:TRUE
SUMMARY:Labor Day Celebration
DESCRIPTION:We are kicking off our birthday month with a Labor Day offer! Enjoy our shows\, exhibits and presentations for as low as $32.25 when you buy four! Offer available until September 2.
X-ALT-DESC;FMTTYPE=text/html:We are kicking off our birthday month with a Labor Day offer! Enjoy our shows\, exhibits and presentations for as low as $32.25 when you buy four! Offer available until September 2.
LOCATION:
UID:e.1580.19485
SEQUENCE:3
DTSTAMP:20260425T154432Z
URL:https://business.mdglcc.com/events/details/labor-day-celebration-19485
END:VEVENT

END:VCALENDAR
