BEGIN:VCALENDAR
VERSION:2.0
PRODID:-//ChamberMaster//Event Calendar 2.0//EN
METHOD:PUBLISH
X-PUBLISHED-TTL:P3D
REFRESH-INTERVAL:P3D
CALSCALE:GREGORIAN
BEGIN:VEVENT
DTSTART:20190801T140000Z
DTEND:20190801T150000Z
X-MICROSOFT-CDO-ALLDAYEVENT:FALSE
SUMMARY:Maximizing your Membership Benefits - Networking Breakfast @ LGBT Visitor Center in Miami Beach
DESCRIPTION:The Miami-Dade Gay & Lesbian Chamber of Commerce presents an  information sharing and networking breakfast at the LGBT Visitor Center\, 1130 Washington Avenue\, Miami Beach 10:00am - 11:00am.  \n\n\n\nWhether you are a new\, existing or prospective member\, learn how to maximize all the Marketing tools and Programs available as part of a membership in the MDGLCC.  Members will also learn about the MDGLCC's website gaybizmiami.com and your access to new features as well as how to take advantage of all our networking opportunities available to you.
X-ALT-DESC;FMTTYPE=text/html:The Miami-Dade Gay &amp\; Lesbian Chamber of Commerce presents an&nbsp\; information sharing and networking breakfast at the LGBT Visitor Center\, 1130 Washington Avenue\, Miami Beach 10:00am - 11:00am.&nbsp\;&nbsp\;<br />\n<br />\nWhether you are a new\, existing or prospective member\, learn how to maximize all the Marketing tools and Programs available as part of a membership in the MDGLCC.&nbsp\;&nbsp\;<span style="font-family: arial\;">Members will also learn about the MDGLCC&#39\;s website gaybizmiami.com and your access to new features as well as how to take advantage of all our networking opportunities available to you.</span>
LOCATION:LGBT Visitor Center 1130 Washington Avenue Miami Beach
UID:e.1580.19444
SEQUENCE:3
DTSTAMP:20260425T192223Z
URL:https://business.mdglcc.com/events/details/maximizing-your-membership-benefits-networking-breakfast-lgbt-visitor-center-in-miami-beach-19444
END:VEVENT

END:VCALENDAR
