BEGIN:VCALENDAR
VERSION:2.0
PRODID:-//ChamberMaster//Event Calendar 2.0//EN
METHOD:PUBLISH
X-PUBLISHED-TTL:P3D
REFRESH-INTERVAL:P3D
CALSCALE:GREGORIAN
BEGIN:VEVENT
DTSTART:20190905T140000Z
DTEND:20190905T150000Z
X-MICROSOFT-CDO-ALLDAYEVENT:FALSE
SUMMARY:Maximizing your Membership Benefits - Networking Breakfast @ LGBT Visitor Center in Miami Beach
DESCRIPTION:Whether you are a new\, existing or potential new MDGLCC member\, learn how to maximize the use of all the Marketing tools and Programs available through the Chamber. \n\n \n\n Learn about the Chamber's website and access to features as well as bounce ideas and ask questions to chamber staff and Membership Committee on how to engage the LGBT consumer with your products and / or services. Free admission.
X-ALT-DESC;FMTTYPE=text/html:<div style="color: rgb(48\, 48\, 48)\; font-family: Verdana\,Geneva\,sans-serif\; font-size: 14px\; font-style: normal\; font-variant: normal\; font-weight: 400\; letter-spacing: normal\; orphans: 2\; text-align: left\; text-decoration: none\; text-indent: 0px\; text-transform: none\; -webkit-text-stroke-width: 0px\; white-space: pre-wrap\; word-spacing: 0px\;"><span style="color: rgb(0\, 0\, 0)\;">Whether you are a new\, existing or potential new MDGLCC member\, learn how to maximize the use of all the Marketing tools and Programs available through the Chamber. </span></div>\n\n<div style="color: rgb(48\, 48\, 48)\; font-family: Verdana\,Geneva\,sans-serif\; font-size: 14px\; font-style: normal\; font-variant: normal\; font-weight: 400\; letter-spacing: normal\; orphans: 2\; text-align: left\; text-decoration: none\; text-indent: 0px\; text-transform: none\; -webkit-text-stroke-width: 0px\; white-space: pre-wrap\; word-spacing: 0px\;">&nbsp\;</div>\n\n<div style="color: rgb(48\, 48\, 48)\; font-family: Verdana\,Geneva\,sans-serif\; font-size: 14px\; font-style: normal\; font-variant: normal\; font-weight: 400\; letter-spacing: normal\; orphans: 2\; text-align: left\; text-decoration: none\; text-indent: 0px\; text-transform: none\; -webkit-text-stroke-width: 0px\; white-space: pre-wrap\; word-spacing: 0px\;"><span style="color: rgb(0\, 0\, 0)\;">&#65279\;Learn about the Chamber&#39\;s website and access to features as well as bounce ideas and ask questions to chamber staff and Membership Committee on how to engage the LGBT consumer with your products and / or services. Free admission.</span></div>\n\n<div style="color: rgb(48\, 48\, 48)\; font-family: Verdana\,Geneva\,sans-serif\; font-size: 14px\; font-style: normal\; font-variant: normal\; font-weight: 400\; letter-spacing: normal\; orphans: 2\; text-align: left\; text-decoration: none\; text-indent: 0px\; text-transform: none\; -webkit-text-stroke-width: 0px\; white-space: pre-wrap\; word-spacing: 0px\;">&nbsp\;</div>\n
LOCATION:LGBT Visitor Center 1130 Washington Avenue Miami Beach
UID:e.1580.19477
SEQUENCE:3
DTSTAMP:20260425T155034Z
URL:https://business.mdglcc.com/events/details/maximizing-your-membership-benefits-networking-breakfast-lgbt-visitor-center-in-miami-beach-19477
END:VEVENT

END:VCALENDAR
