BEGIN:VCALENDAR
VERSION:2.0
PRODID:-//ChamberMaster//Event Calendar 2.0//EN
METHOD:PUBLISH
X-PUBLISHED-TTL:P3D
REFRESH-INTERVAL:P3D
CALSCALE:GREGORIAN
BEGIN:VEVENT
DTSTART:20221006T140000Z
DTEND:20221005T150000Z
X-MICROSOFT-CDO-ALLDAYEVENT:FALSE
SUMMARY:Maximizing your Membership Benefits (Virtual via Zoom)
DESCRIPTION:The Miami-Dade Gay & Lesbian Chamber of Commerce presents an information sharing on member benefits.  Whether you are a new\, existing or prospective member\, learn how to maximize all the Marketing tools and Programs available as part of a membership in the MDGLCC.  Members will also learn about the MDGLCC's website gaybizmiami.com and your access to new features as well as how to take advantage of all our networking opportunities available to you.
X-ALT-DESC;FMTTYPE=text/html:The Miami-Dade Gay &amp\; Lesbian Chamber of Commerce presents an information sharing on member benefits.&nbsp\;&nbsp\;Whether you are a new\, existing or prospective member\, learn how to maximize all the Marketing tools and Programs available as part of a membership in the MDGLCC.&nbsp\;&nbsp\;<span style="font-family: arial\;">Members will also learn about the MDGLCC&#39\;s website gaybizmiami.com and your access to new features as well as how to take advantage of all our networking opportunities available to you.</span>
LOCATION:Registrants will receive zoom link for virtual meeting
UID:e.1580.30301
SEQUENCE:3
DTSTAMP:20260422T012704Z
URL:https://business.mdglcc.com/events/details/maximizing-your-membership-benefits-virtual-via-zoom-30301
END:VEVENT

END:VCALENDAR
