BEGIN:VCALENDAR
VERSION:2.0
PRODID:-//ChamberMaster//Event Calendar 2.0//EN
METHOD:PUBLISH
X-PUBLISHED-TTL:P3D
REFRESH-INTERVAL:P3D
CALSCALE:GREGORIAN
BEGIN:VEVENT
DTSTART:20190512T150000Z
DTEND:20190512T200000Z
X-MICROSOFT-CDO-ALLDAYEVENT:FALSE
SUMMARY:Mothers Day Brunch at the Coral Gables Country Club
DESCRIPTION:MOTHER'S DAY BRUNCH AT\n\nCORAL GABLES COUNTRY CLUB\n\nHonor Mom and give her a special day! Celebrate Mother's Day at The Coral Gables Country Club in our beautiful poolside seating and Atrium room. Treat her to a delicious brunch every year on her special day.
X-ALT-DESC;FMTTYPE=text/html:<h1>MOTHER&rsquo\;S DAY BRUNCH AT<br />\nCORAL GABLES COUNTRY CLUB</h1>\n\n<p>Honor Mom and give her a special day! Celebrate Mother&rsquo\;s Day at The Coral Gables Country Club in our beautiful poolside seating and Atrium room. Treat her to a delicious brunch every year on her special day.</p>\n\n<p>&nbsp\;</p>\n
LOCATION:Coral Gables Country Club 997 N Greenway Drive\, Coral Gables FL 33134
UID:e.1580.18980
SEQUENCE:3
DTSTAMP:20260425T220734Z
URL:https://business.mdglcc.com/events/details/mothers-day-brunch-at-the-coral-gables-country-club-18980
END:VEVENT

END:VCALENDAR
