BEGIN:VCALENDAR
VERSION:2.0
PRODID:-//ChamberMaster//Event Calendar 2.0//EN
METHOD:PUBLISH
X-PUBLISHED-TTL:P3D
REFRESH-INTERVAL:P3D
CALSCALE:GREGORIAN
BEGIN:VEVENT
DTSTART:20190718T000000Z
DTEND:20190811T190000Z
X-MICROSOFT-CDO-ALLDAYEVENT:FALSE
SUMMARY:Murder for Two
DESCRIPTION:Mixing classic musical comedy with a dash of Agatha Christie\, everyone is a suspect in this house of eccentric characters unfazed by the dead body on the floor. Murder for Two is a hilarious musical murder mystery with a twist\; one actor investigates the crime\, the other plays all 13 suspects\, and they both play the piano! A zany madcap musical mystery\, this 90-minute whodunit is a highly theatrical duet loaded with killer laughs.
X-ALT-DESC;FMTTYPE=text/html:<p><span style="font-size:12px"><span style="font-family:arial\,helvetica\,sans-serif"><span style="color:rgb(0\, 0\, 0)">Mixing classic musical comedy with a dash of Agatha Christie\, everyone is a suspect in this house of eccentric characters unfazed by the dead body on the floor.&nbsp\;</span><em><strong>Murder for Two</strong></em><span style="color:rgb(0\, 0\, 0)">&nbsp\;is a hilarious musical murder mystery with a twist\; one actor investigates the crime\, the other plays all 13 suspects\, and they both play the piano! A zany madcap musical mystery\, this 90-minute whodunit is a highly theatrical duet loaded with killer laughs.&nbsp\;</span></span></span></p>\n
LOCATION:Actors' Playhouse at the Miracle Theatre 280 Miracle Mile Coral Gables\, Florida 33134
UID:e.1580.19391
SEQUENCE:3
DTSTAMP:20260425T172512Z
URL:https://business.mdglcc.com/events/details/murder-for-two-19391
END:VEVENT

END:VCALENDAR
